BEGIN:VCALENDAR
VERSION:2.0
PRODID:-//WTC De Sprinters - ECPv6.15.20//NONSGML v1.0//EN
CALSCALE:GREGORIAN
METHOD:PUBLISH
X-WR-CALNAME:WTC De Sprinters
X-ORIGINAL-URL:https://desprinters.be
X-WR-CALDESC:Evenementen voor WTC De Sprinters
REFRESH-INTERVAL;VALUE=DURATION:PT1H
X-Robots-Tag:noindex
X-PUBLISHED-TTL:PT1H
BEGIN:VTIMEZONE
TZID:Europe/Paris
BEGIN:DAYLIGHT
TZOFFSETFROM:+0100
TZOFFSETTO:+0200
TZNAME:CEST
DTSTART:20210328T010000
END:DAYLIGHT
BEGIN:STANDARD
TZOFFSETFROM:+0200
TZOFFSETTO:+0100
TZNAME:CET
DTSTART:20211031T010000
END:STANDARD
BEGIN:DAYLIGHT
TZOFFSETFROM:+0100
TZOFFSETTO:+0200
TZNAME:CEST
DTSTART:20220327T010000
END:DAYLIGHT
BEGIN:STANDARD
TZOFFSETFROM:+0200
TZOFFSETTO:+0100
TZNAME:CET
DTSTART:20221030T010000
END:STANDARD
BEGIN:DAYLIGHT
TZOFFSETFROM:+0100
TZOFFSETTO:+0200
TZNAME:CEST
DTSTART:20230326T010000
END:DAYLIGHT
BEGIN:STANDARD
TZOFFSETFROM:+0200
TZOFFSETTO:+0100
TZNAME:CET
DTSTART:20231029T010000
END:STANDARD
END:VTIMEZONE
BEGIN:VEVENT
DTSTART;TZID=Europe/Paris:20220424T080000
DTEND;TZID=Europe/Paris:20220424T170000
DTSTAMP:20260421T185150
CREATED:20220215T183251Z
LAST-MODIFIED:20220215T183251Z
UID:3727-1650787200-1650819600@desprinters.be
SUMMARY:Ploeg B: Acht van Weelde Grobbendonk 75 km
DESCRIPTION:
URL:https://desprinters.be/event/ploeg-b-acht-van-weelde-grobbendonk-75-km/
END:VEVENT
BEGIN:VEVENT
DTSTART;TZID=Europe/Paris:20220424T080000
DTEND;TZID=Europe/Paris:20220424T080000
DTSTAMP:20260421T185150
CREATED:20220215T183110Z
LAST-MODIFIED:20220215T183110Z
UID:3725-1650787200-1650787200@desprinters.be
SUMMARY:Ploeg A: Acht van Weelde Grobbendonk 100 km
DESCRIPTION:
URL:https://desprinters.be/event/ploeg-a-acht-van-weelde-grobbendonk-100-km/
END:VEVENT
BEGIN:VEVENT
DTSTART;TZID=Europe/Paris:20220423T130000
DTEND;TZID=Europe/Paris:20220423T130000
DTSTAMP:20260421T185150
CREATED:20220215T182806Z
LAST-MODIFIED:20220215T182806Z
UID:3721-1650718800-1650718800@desprinters.be
SUMMARY:Ploeg A: Arkrit Heideschuur 100 km
DESCRIPTION:
URL:https://desprinters.be/event/ploeg-a-arkrit-heideschuur-100-km/
END:VEVENT
BEGIN:VEVENT
DTSTART;TZID=Europe/Paris:20220423T120000
DTEND;TZID=Europe/Paris:20220423T120000
DTSTAMP:20260421T185150
CREATED:20220215T182905Z
LAST-MODIFIED:20220215T182905Z
UID:3723-1650715200-1650715200@desprinters.be
SUMMARY:Ploeg B: Arkrit Heideschuur 100 km
DESCRIPTION:
URL:https://desprinters.be/event/ploeg-b-arkrit-heideschuur-100-km/
END:VEVENT
BEGIN:VEVENT
DTSTART;TZID=Europe/Paris:20220418T080000
DTEND;TZID=Europe/Paris:20220418T080000
DTSTAMP:20260421T185150
CREATED:20220215T182651Z
LAST-MODIFIED:20220215T182651Z
UID:3719-1650268800-1650268800@desprinters.be
SUMMARY:Ploeg B: Rondrit Paasei Oostmalle 75 km
DESCRIPTION:
URL:https://desprinters.be/event/ploeg-b-rondrit-paasei-oostmalle-75-km/
END:VEVENT
BEGIN:VEVENT
DTSTART;TZID=Europe/Paris:20220418T080000
DTEND;TZID=Europe/Paris:20220418T080000
DTSTAMP:20260421T185150
CREATED:20220215T182548Z
LAST-MODIFIED:20220215T182548Z
UID:3717-1650268800-1650268800@desprinters.be
SUMMARY:Ploeg A: Bouwel Tesselt 105 km
DESCRIPTION:
URL:https://desprinters.be/event/ploeg-a-bouwel-tesselt-105-km/
END:VEVENT
BEGIN:VEVENT
DTSTART;TZID=Europe/Paris:20220417T080000
DTEND;TZID=Europe/Paris:20220417T080000
DTSTAMP:20260421T185150
CREATED:20220215T182324Z
LAST-MODIFIED:20220215T182324Z
UID:3715-1650182400-1650182400@desprinters.be
SUMMARY:Ploeg B: Gerolsteiner rit Berlaar 75 km
DESCRIPTION:
URL:https://desprinters.be/event/ploeg-b-gerolsteiner-rit-berlaar-75-km/
END:VEVENT
BEGIN:VEVENT
DTSTART;TZID=Europe/Paris:20220417T080000
DTEND;TZID=Europe/Paris:20220417T080000
DTSTAMP:20260421T185150
CREATED:20220215T182033Z
LAST-MODIFIED:20220215T182033Z
UID:3713-1650182400-1650182400@desprinters.be
SUMMARY:Ploeg A: Hageland nr. 88 | 103 km
DESCRIPTION:
URL:https://desprinters.be/event/ploeg-a-hageland-nr-88-103-km/
END:VEVENT
BEGIN:VEVENT
DTSTART;TZID=Europe/Paris:20220416T130000
DTEND;TZID=Europe/Paris:20220416T130000
DTSTAMP:20260421T185150
CREATED:20220215T181752Z
LAST-MODIFIED:20220414T081525Z
UID:3711-1650114000-1650114000@desprinters.be
SUMMARY:Ploeg B: Engsbergen Rit nummer 100 (78 km)
DESCRIPTION:
URL:https://desprinters.be/event/ploeg-b-happy-bike-ot-heideschuur-75-km/
END:VEVENT
BEGIN:VEVENT
DTSTART;TZID=Europe/Paris:20220416T130000
DTEND;TZID=Europe/Paris:20220416T130000
DTSTAMP:20260421T185150
CREATED:20220215T181652Z
LAST-MODIFIED:20220215T181652Z
UID:3709-1650114000-1650114000@desprinters.be
SUMMARY:Ploeg A: Eigen rit 100 km
DESCRIPTION:
URL:https://desprinters.be/event/ploeg-a-eigen-rit-100-km-3/
END:VEVENT
BEGIN:VEVENT
DTSTART;TZID=Europe/Paris:20220410T080000
DTEND;TZID=Europe/Paris:20220410T080000
DTSTAMP:20260421T185150
CREATED:20220215T181542Z
LAST-MODIFIED:20220215T181542Z
UID:3707-1649577600-1649577600@desprinters.be
SUMMARY:Ploeg B: Lenterit Kiefhoeve 75 km
DESCRIPTION:
URL:https://desprinters.be/event/ploeg-b-lenterit-kiefhoeve-75-km/
END:VEVENT
BEGIN:VEVENT
DTSTART;TZID=Europe/Paris:20220410T080000
DTEND;TZID=Europe/Paris:20220410T080000
DTSTAMP:20260421T185150
CREATED:20220215T181428Z
LAST-MODIFIED:20220215T181428Z
UID:3704-1649577600-1649577600@desprinters.be
SUMMARY:Ploeg A: Rit naar Baal nr. 120 | 107 km
DESCRIPTION:rit nr. 120
URL:https://desprinters.be/event/ploeg-a-rit-naar-baal-nr-120-107-km/
END:VEVENT
BEGIN:VEVENT
DTSTART;TZID=Europe/Paris:20220409T130000
DTEND;TZID=Europe/Paris:20220409T130000
DTSTAMP:20260421T185150
CREATED:20220215T180120Z
LAST-MODIFIED:20220215T180120Z
UID:3700-1649509200-1649509200@desprinters.be
SUMMARY:Ploeg A: Eigen rit | 100 km
DESCRIPTION:
URL:https://desprinters.be/event/ploeg-a-eigen-rit-100-km-2/
END:VEVENT
BEGIN:VEVENT
DTSTART;TZID=Europe/Paris:20220409T090000
DTEND;TZID=Europe/Paris:20220409T090000
DTSTAMP:20260421T185150
CREATED:20220215T180322Z
LAST-MODIFIED:20220215T180322Z
UID:3702-1649494800-1649494800@desprinters.be
SUMMARY:Ploeg B: Hageland Classic Mol 110 km
DESCRIPTION:
URL:https://desprinters.be/event/ploeg-b-hageland-classic-mol-110-km/
END:VEVENT
BEGIN:VEVENT
DTSTART;TZID=Europe/Paris:20220403T080000
DTEND;TZID=Europe/Paris:20220403T080000
DTSTAMP:20260421T185150
CREATED:20220215T175712Z
LAST-MODIFIED:20220215T175712Z
UID:3698-1648972800-1648972800@desprinters.be
SUMMARY:Ploeg B: Gerheide nr. 66 | 75 km
DESCRIPTION:Rit nr. 66
URL:https://desprinters.be/event/ploeg-b-gerheide-nr-66-75-km/
END:VEVENT
BEGIN:VEVENT
DTSTART;TZID=Europe/Paris:20220403T080000
DTEND;TZID=Europe/Paris:20220403T080000
DTSTAMP:20260421T185150
CREATED:20220215T175244Z
LAST-MODIFIED:20220215T175407Z
UID:3696-1648972800-1648972800@desprinters.be
SUMMARY:Ploeg A: Rit naar Holland nr. 122 | 100 km
DESCRIPTION:Rit nr. 122
URL:https://desprinters.be/event/ploeg-a-rit-naar-holland-nr-122-100-km/
END:VEVENT
BEGIN:VEVENT
DTSTART;TZID=Europe/Paris:20220402T120000
DTEND;TZID=Europe/Paris:20220402T120000
DTSTAMP:20260421T185150
CREATED:20220215T173214Z
LAST-MODIFIED:20220215T174847Z
UID:3691-1648900800-1648900800@desprinters.be
SUMMARY:Ploeg A: Rond Haacht nr. 37 | 130 km
DESCRIPTION:Rit nr. 37
URL:https://desprinters.be/event/ploeg-a-rond-haacht-nr-37-130-km/
END:VEVENT
BEGIN:VEVENT
DTSTART;TZID=Europe/Paris:20220402T090000
DTEND;TZID=Europe/Paris:20220402T090000
DTSTAMP:20260421T185150
CREATED:20220215T175009Z
LAST-MODIFIED:20220215T175009Z
UID:3693-1648890000-1648890000@desprinters.be
SUMMARY:Ploeg B: In 't Ven Oud-Turnhout 120 km
DESCRIPTION:
URL:https://desprinters.be/event/ploeg-b-in-t-ven-oud-turnhout-120-km/
END:VEVENT
BEGIN:VEVENT
DTSTART;TZID=Europe/Paris:20220401T190000
DTEND;TZID=Europe/Paris:20220401T190000
DTSTAMP:20260421T185150
CREATED:20220215T172958Z
LAST-MODIFIED:20220215T172958Z
UID:3689-1648839600-1648839600@desprinters.be
SUMMARY:VelokesQuiz
DESCRIPTION:
URL:https://desprinters.be/event/velokesquiz/
END:VEVENT
BEGIN:VEVENT
DTSTART;TZID=Europe/Paris:20220327T080000
DTEND;TZID=Europe/Paris:20220327T080000
DTSTAMP:20260421T185150
CREATED:20220215T171609Z
LAST-MODIFIED:20220215T171609Z
UID:3685-1648368000-1648368000@desprinters.be
SUMMARY:Ploeg B: Vorselaar nr. 59 | 75 km
DESCRIPTION:Rit 59
URL:https://desprinters.be/event/ploeg-b-vorselaar-nr-59-75-km/
END:VEVENT
BEGIN:VEVENT
DTSTART;TZID=Europe/Paris:20220327T080000
DTEND;TZID=Europe/Paris:20220327T080000
DTSTAMP:20260421T185150
CREATED:20220215T171501Z
LAST-MODIFIED:20220215T171501Z
UID:3683-1648368000-1648368000@desprinters.be
SUMMARY:Ploeg A: Eigen rit 100 km
DESCRIPTION:
URL:https://desprinters.be/event/ploeg-a-eigen-rit-100-km/
END:VEVENT
BEGIN:VEVENT
DTSTART;TZID=Europe/Paris:20220326T130000
DTEND;TZID=Europe/Paris:20220326T130000
DTSTAMP:20260421T185150
CREATED:20220215T171400Z
LAST-MODIFIED:20220215T171400Z
UID:3681-1648299600-1648299600@desprinters.be
SUMMARY:Ploeg B: Eigen rit Poederlee 75 km
DESCRIPTION:
URL:https://desprinters.be/event/ploeg-b-eigen-rit-poederlee-75-km/
END:VEVENT
BEGIN:VEVENT
DTSTART;TZID=Europe/Paris:20220326T130000
DTEND;TZID=Europe/Paris:20220326T130000
DTSTAMP:20260421T185150
CREATED:20220215T171159Z
LAST-MODIFIED:20220215T171159Z
UID:3679-1648299600-1648299600@desprinters.be
SUMMARY:Ploeg A: Eigen rit Poederlee 100 km
DESCRIPTION:
URL:https://desprinters.be/event/ploeg-a-eigen-rit-poederlee-100-km/
END:VEVENT
BEGIN:VEVENT
DTSTART;TZID=Europe/Paris:20220320T080000
DTEND;TZID=Europe/Paris:20220320T080000
DTSTAMP:20260421T185150
CREATED:20220215T170639Z
LAST-MODIFIED:20220215T170639Z
UID:3677-1647763200-1647763200@desprinters.be
SUMMARY:Ploeg B: Café Glenn Merksplas 75 km
DESCRIPTION:
URL:https://desprinters.be/event/ploeg-b-cafe-glenn-merksplas-75-km/
END:VEVENT
BEGIN:VEVENT
DTSTART;TZID=Europe/Paris:20220320T080000
DTEND;TZID=Europe/Paris:20220320T080000
DTSTAMP:20260421T185150
CREATED:20220215T170530Z
LAST-MODIFIED:20220215T170530Z
UID:3675-1647763200-1647763200@desprinters.be
SUMMARY:Ploeg A: Hamsehoeven 97 km
DESCRIPTION:
URL:https://desprinters.be/event/ploeg-a-hamsehoeven-97-km/
END:VEVENT
BEGIN:VEVENT
DTSTART;TZID=Europe/Paris:20220319T123000
DTEND;TZID=Europe/Paris:20220319T123000
DTSTAMP:20260421T185150
CREATED:20220215T170356Z
LAST-MODIFIED:20220215T172725Z
UID:3673-1647693000-1647693000@desprinters.be
SUMMARY:Ploeg B: Molenslop Weelde 102 of 74 km MA
DESCRIPTION:Met aanhangwagen
URL:https://desprinters.be/event/ploeg-b-molenslop-weelde-102-of-74-km/
END:VEVENT
BEGIN:VEVENT
DTSTART;TZID=Europe/Paris:20220319T090000
DTEND;TZID=Europe/Paris:20220319T090000
DTSTAMP:20260421T185150
CREATED:20220215T170039Z
LAST-MODIFIED:20220215T170039Z
UID:3671-1647680400-1647680400@desprinters.be
SUMMARY:Ploeg A: Molenslop Weelde 135 km
DESCRIPTION:
URL:https://desprinters.be/event/ploeg-a-molenslop-weelde-135-km/
END:VEVENT
BEGIN:VEVENT
DTSTART;TZID=Europe/Paris:20220313T080000
DTEND;TZID=Europe/Paris:20220313T080000
DTSTAMP:20260421T185150
CREATED:20220215T165246Z
LAST-MODIFIED:20220215T165526Z
UID:3669-1647158400-1647158400@desprinters.be
SUMMARY:Ploeg B: Herselt nr. 15 | 75 km
DESCRIPTION:Rit nr. 15
URL:https://desprinters.be/event/ploeg-b-herselt-nr-15-75-km/
END:VEVENT
BEGIN:VEVENT
DTSTART;TZID=Europe/Paris:20220313T080000
DTEND;TZID=Europe/Paris:20220313T080000
DTSTAMP:20260421T185150
CREATED:20220215T164700Z
LAST-MODIFIED:20220215T164859Z
UID:3665-1647158400-1647158400@desprinters.be
SUMMARY:Ploeg A: Scherpenheuvel nr. 10 | 90 km
DESCRIPTION:Rit nr. 10
URL:https://desprinters.be/event/ploeg-a-scherpenheuvel-nr-10-90-km/
END:VEVENT
BEGIN:VEVENT
DTSTART;TZID=Europe/Paris:20220312T130000
DTEND;TZID=Europe/Paris:20220312T130000
DTSTAMP:20260421T185150
CREATED:20220215T164433Z
LAST-MODIFIED:20220215T164433Z
UID:3663-1647090000-1647090000@desprinters.be
SUMMARY:Ploeg B: Gelmenrit Hoogstraten 75 km
DESCRIPTION:
URL:https://desprinters.be/event/ploeg-b-gelmenrit-hoogstraten-75-km/
END:VEVENT
END:VCALENDAR