BEGIN:VCALENDAR
VERSION:2.0
PRODID:-//WTC De Sprinters - ECPv6.15.20//NONSGML v1.0//EN
CALSCALE:GREGORIAN
METHOD:PUBLISH
X-WR-CALNAME:WTC De Sprinters
X-ORIGINAL-URL:https://desprinters.be
X-WR-CALDESC:Evenementen voor WTC De Sprinters
REFRESH-INTERVAL;VALUE=DURATION:PT1H
X-Robots-Tag:noindex
X-PUBLISHED-TTL:PT1H
BEGIN:VTIMEZONE
TZID:Europe/Paris
BEGIN:DAYLIGHT
TZOFFSETFROM:+0100
TZOFFSETTO:+0200
TZNAME:CEST
DTSTART:20210328T010000
END:DAYLIGHT
BEGIN:STANDARD
TZOFFSETFROM:+0200
TZOFFSETTO:+0100
TZNAME:CET
DTSTART:20211031T010000
END:STANDARD
BEGIN:DAYLIGHT
TZOFFSETFROM:+0100
TZOFFSETTO:+0200
TZNAME:CEST
DTSTART:20220327T010000
END:DAYLIGHT
BEGIN:STANDARD
TZOFFSETFROM:+0200
TZOFFSETTO:+0100
TZNAME:CET
DTSTART:20221030T010000
END:STANDARD
BEGIN:DAYLIGHT
TZOFFSETFROM:+0100
TZOFFSETTO:+0200
TZNAME:CEST
DTSTART:20230326T010000
END:DAYLIGHT
BEGIN:STANDARD
TZOFFSETFROM:+0200
TZOFFSETTO:+0100
TZNAME:CET
DTSTART:20231029T010000
END:STANDARD
END:VTIMEZONE
BEGIN:VEVENT
DTSTART;TZID=Europe/Paris:20220605T080000
DTEND;TZID=Europe/Paris:20220605T080000
DTSTAMP:20260421T154358
CREATED:20220221T140446Z
LAST-MODIFIED:20220221T142552Z
UID:3794-1654416000-1654416000@desprinters.be
SUMMARY:ploeg A + B: Aardse fietsdag 75 km
DESCRIPTION:
URL:https://desprinters.be/event/ploeg-a-b-aardse-fietsdag-75-km/
END:VEVENT
BEGIN:VEVENT
DTSTART;TZID=Europe/Paris:20220604T130000
DTEND;TZID=Europe/Paris:20220604T130000
DTSTAMP:20260421T154358
CREATED:20220221T140446Z
LAST-MODIFIED:20220221T142249Z
UID:3792-1654347600-1654347600@desprinters.be
SUMMARY:Ploeg A: Eigen rit 100 km
DESCRIPTION:
URL:https://desprinters.be/event/ploeg-a-eigen-rit-100-km-6/
END:VEVENT
BEGIN:VEVENT
DTSTART;TZID=Europe/Paris:20220604T090000
DTEND;TZID=Europe/Paris:20220604T090000
DTSTAMP:20260421T154358
CREATED:20220221T140446Z
LAST-MODIFIED:20220221T142422Z
UID:3793-1654333200-1654333200@desprinters.be
SUMMARY:Ploeg B: Move for Parkinson 75 km
DESCRIPTION:
URL:https://desprinters.be/event/ploeg-b-move-for-parkinson-75-km-2/
END:VEVENT
BEGIN:VEVENT
DTSTART;TZID=Europe/Paris:20220529T080000
DTEND;TZID=Europe/Paris:20220529T080000
DTSTAMP:20260421T154358
CREATED:20220215T191738Z
LAST-MODIFIED:20220215T191738Z
UID:3770-1653811200-1653811200@desprinters.be
SUMMARY:Ploeg B: Willem Tel Sint-Lenaerts 75 km
DESCRIPTION:
URL:https://desprinters.be/event/ploeg-b-willem-tel-sint-lenaerts-75-km/
END:VEVENT
BEGIN:VEVENT
DTSTART;TZID=Europe/Paris:20220529T080000
DTEND;TZID=Europe/Paris:20220529T080000
DTSTAMP:20260421T154358
CREATED:20220215T191616Z
LAST-MODIFIED:20220215T191616Z
UID:3768-1653811200-1653811200@desprinters.be
SUMMARY:Ploeg A: Loenhout nr. 111 | 109 km
DESCRIPTION:
URL:https://desprinters.be/event/ploeg-a-loenhout-nr-111-109-km/
END:VEVENT
BEGIN:VEVENT
DTSTART;TZID=Europe/Paris:20220528T070000
DTEND;TZID=Europe/Paris:20220528T070000
DTSTAMP:20260421T154358
CREATED:20220215T191411Z
LAST-MODIFIED:20220518T094112Z
UID:3766-1653721200-1653721200@desprinters.be
SUMMARY:Ploeg B: Ardennenrit (Welkenraedt) 110 km
DESCRIPTION:
URL:https://desprinters.be/event/ploeg-b-kolonie-merksplas-81-of-132-km/
END:VEVENT
BEGIN:VEVENT
DTSTART;TZID=Europe/Paris:20220528T070000
DTEND;TZID=Europe/Paris:20220528T070000
DTSTAMP:20260421T154358
CREATED:20220215T191255Z
LAST-MODIFIED:20220518T093928Z
UID:3764-1653721200-1653721200@desprinters.be
SUMMARY:Ploeg A: Ardennenrit (Welkenraedt) 160 km
DESCRIPTION:
URL:https://desprinters.be/event/ploeg-a-kolonie-merksplas-125-km/
END:VEVENT
BEGIN:VEVENT
DTSTART;TZID=Europe/Paris:20220526T080000
DTEND;TZID=Europe/Paris:20220526T080000
DTSTAMP:20260421T154358
CREATED:20220215T191145Z
LAST-MODIFIED:20220215T191145Z
UID:3762-1653552000-1653552000@desprinters.be
SUMMARY:Ploeg B: Grasbos nr. 64 | 76 km
DESCRIPTION:
URL:https://desprinters.be/event/ploeg-b-grasbos-nr-64-76-km/
END:VEVENT
BEGIN:VEVENT
DTSTART;TZID=Europe/Paris:20220526T080000
DTEND;TZID=Europe/Paris:20220526T080000
DTSTAMP:20260421T154358
CREATED:20220215T190434Z
LAST-MODIFIED:20220215T190434Z
UID:3759-1653552000-1653552000@desprinters.be
SUMMARY:Ploeg A: Grasbos 100 km
DESCRIPTION:
URL:https://desprinters.be/event/ploeg-a-grasbos-100-km/
END:VEVENT
BEGIN:VEVENT
DTSTART;TZID=Europe/Paris:20220522T080000
DTEND;TZID=Europe/Paris:20220522T080000
DTSTAMP:20260421T154358
CREATED:20220215T190311Z
LAST-MODIFIED:20220215T190311Z
UID:3757-1653206400-1653206400@desprinters.be
SUMMARY:Ploeg B: Hulsen nr. 9 | 75 km
DESCRIPTION:
URL:https://desprinters.be/event/ploeg-b-hulsen-nr-9-75-km/
END:VEVENT
BEGIN:VEVENT
DTSTART;TZID=Europe/Paris:20220522T080000
DTEND;TZID=Europe/Paris:20220522T080000
DTSTAMP:20260421T154358
CREATED:20220215T190159Z
LAST-MODIFIED:20220215T190159Z
UID:3755-1653206400-1653206400@desprinters.be
SUMMARY:Ploeg A: Oelegem nr. 110 | 102 km
DESCRIPTION:
URL:https://desprinters.be/event/ploeg-a-oelegem-nr-110-102-km/
END:VEVENT
BEGIN:VEVENT
DTSTART;TZID=Europe/Paris:20220521T080000
DTEND;TZID=Europe/Paris:20220521T080000
DTSTAMP:20260421T154358
CREATED:20220215T190048Z
LAST-MODIFIED:20220215T190048Z
UID:3753-1653120000-1653120000@desprinters.be
SUMMARY:Ploeg B: Herman Frison Classic 140 km
DESCRIPTION:
URL:https://desprinters.be/event/ploeg-b-herman-frison-classic-140-km/
END:VEVENT
BEGIN:VEVENT
DTSTART;TZID=Europe/Paris:20220521T080000
DTEND;TZID=Europe/Paris:20220521T080000
DTSTAMP:20260421T154358
CREATED:20220215T185939Z
LAST-MODIFIED:20220215T185939Z
UID:3751-1653120000-1653120000@desprinters.be
SUMMARY:Ploeg A: Herman Frison Classic 180 km
DESCRIPTION:
URL:https://desprinters.be/event/ploeg-a-herman-frison-classic-180-km/
END:VEVENT
BEGIN:VEVENT
DTSTART;TZID=Europe/Paris:20220515T090000
DTEND;TZID=Europe/Paris:20220515T090000
DTSTAMP:20260421T154358
CREATED:20220215T185833Z
LAST-MODIFIED:20220215T185833Z
UID:3749-1652605200-1652605200@desprinters.be
SUMMARY:Ploeg A+B+C: Verassingsrit 50 km
DESCRIPTION:
URL:https://desprinters.be/event/ploeg-abc-verassingsrit-50-km/
END:VEVENT
BEGIN:VEVENT
DTSTART;TZID=Europe/Paris:20220514T080000
DTEND;TZID=Europe/Paris:20220514T080000
DTSTAMP:20260421T154358
CREATED:20220215T185714Z
LAST-MODIFIED:20220215T185714Z
UID:3747-1652515200-1652515200@desprinters.be
SUMMARY:Ploeg B: Rond Haacht nr. 42 | 118 km
DESCRIPTION:
URL:https://desprinters.be/event/ploeg-b-rond-haacht-nr-42-118-km/
END:VEVENT
BEGIN:VEVENT
DTSTART;TZID=Europe/Paris:20220514T080000
DTEND;TZID=Europe/Paris:20220514T080000
DTSTAMP:20260421T154358
CREATED:20220215T185553Z
LAST-MODIFIED:20220215T185553Z
UID:3745-1652515200-1652515200@desprinters.be
SUMMARY:Ploeg A: Dwars door Limburg Nr. 47 | 160 km
DESCRIPTION:
URL:https://desprinters.be/event/ploeg-a-dwars-door-limburg-nr-47-160-km/
END:VEVENT
BEGIN:VEVENT
DTSTART;TZID=Europe/Paris:20220508T080000
DTEND;TZID=Europe/Paris:20220508T080000
DTSTAMP:20260421T154358
CREATED:20220215T184627Z
LAST-MODIFIED:20220215T184627Z
UID:3743-1651996800-1651996800@desprinters.be
SUMMARY:Ploeg B: Rit 50j DLT Oostmalle | 75 km
DESCRIPTION:
URL:https://desprinters.be/event/ploeg-b-rit-50j-dlt-oostmalle-75-km/
END:VEVENT
BEGIN:VEVENT
DTSTART;TZID=Europe/Paris:20220508T080000
DTEND;TZID=Europe/Paris:20220508T080000
DTSTAMP:20260421T154358
CREATED:20220215T184507Z
LAST-MODIFIED:20220215T184507Z
UID:3741-1651996800-1651996800@desprinters.be
SUMMARY:Ploeg A: Rit naar Lummen nr. 115 | 102 km
DESCRIPTION:
URL:https://desprinters.be/event/ploeg-a-rit-naar-lummen-nr-115-102-km/
END:VEVENT
BEGIN:VEVENT
DTSTART;TZID=Europe/Paris:20220507T130000
DTEND;TZID=Europe/Paris:20220507T130000
DTSTAMP:20260421T154358
CREATED:20220215T184345Z
LAST-MODIFIED:20220503T091604Z
UID:3739-1651928400-1651928400@desprinters.be
SUMMARY:Ploeg B: Balenberg 76.4 km
DESCRIPTION:
URL:https://desprinters.be/event/ploeg-b-ronde-van-geel-kliefhoeve-80-km/
END:VEVENT
BEGIN:VEVENT
DTSTART;TZID=Europe/Paris:20220507T130000
DTEND;TZID=Europe/Paris:20220507T130000
DTSTAMP:20260421T154358
CREATED:20220215T184238Z
LAST-MODIFIED:20220215T184238Z
UID:3737-1651928400-1651928400@desprinters.be
SUMMARY:Ploeg A: Ronde van de Hoop Oud-Turnhout 100 km
DESCRIPTION:
URL:https://desprinters.be/event/ploeg-a-ronde-van-de-hoop-oud-turnhout-100-km/
END:VEVENT
BEGIN:VEVENT
DTSTART;TZID=Europe/Paris:20220501T080000
DTEND;TZID=Europe/Paris:20220501T080000
DTSTAMP:20260421T154358
CREATED:20220215T184114Z
LAST-MODIFIED:20220215T184114Z
UID:3735-1651392000-1651392000@desprinters.be
SUMMARY:Ploeg B: Leopoldsburg nr. 46 | 75 km
DESCRIPTION:
URL:https://desprinters.be/event/ploeg-b-leopoldsburg-nr-46-75-km/
END:VEVENT
BEGIN:VEVENT
DTSTART;TZID=Europe/Paris:20220501T070000
DTEND;TZID=Europe/Paris:20220501T070000
DTSTAMP:20260421T154358
CREATED:20220217T183744Z
LAST-MODIFIED:20220217T183744Z
UID:3786-1651388400-1651388400@desprinters.be
SUMMARY:Ploeg A: Hel van het Hageland Herselt 135 km
DESCRIPTION:
URL:https://desprinters.be/event/ploeg-a-hel-van-het-hageland-herselt-135-km-2/
END:VEVENT
BEGIN:VEVENT
DTSTART;TZID=Europe/Paris:20220430T070000
DTEND;TZID=Europe/Paris:20220430T070000
DTSTAMP:20260421T154358
CREATED:20220215T183612Z
LAST-MODIFIED:20220215T183612Z
UID:3731-1651302000-1651302000@desprinters.be
SUMMARY:Ploeg B: Kwaremontclassic Kuurne 100 of 75 km MA
DESCRIPTION:
URL:https://desprinters.be/event/ploeg-b-kwaremontclassic-kuurne-100-of-75-km-ma/
END:VEVENT
BEGIN:VEVENT
DTSTART;TZID=Europe/Paris:20220430T070000
DTEND;TZID=Europe/Paris:20220430T070000
DTSTAMP:20260421T154358
CREATED:20220215T183408Z
LAST-MODIFIED:20220215T183408Z
UID:3729-1651302000-1651302000@desprinters.be
SUMMARY:Ploeg A: Kwaremontclassic Kuurne 130 km MA
DESCRIPTION:
URL:https://desprinters.be/event/ploeg-a-kwaremontclassic-kuurne-130-km-ma/
END:VEVENT
BEGIN:VEVENT
DTSTART;TZID=Europe/Paris:20220424T080000
DTEND;TZID=Europe/Paris:20220424T170000
DTSTAMP:20260421T154358
CREATED:20220215T183251Z
LAST-MODIFIED:20220215T183251Z
UID:3727-1650787200-1650819600@desprinters.be
SUMMARY:Ploeg B: Acht van Weelde Grobbendonk 75 km
DESCRIPTION:
URL:https://desprinters.be/event/ploeg-b-acht-van-weelde-grobbendonk-75-km/
END:VEVENT
BEGIN:VEVENT
DTSTART;TZID=Europe/Paris:20220424T080000
DTEND;TZID=Europe/Paris:20220424T080000
DTSTAMP:20260421T154358
CREATED:20220215T183110Z
LAST-MODIFIED:20220215T183110Z
UID:3725-1650787200-1650787200@desprinters.be
SUMMARY:Ploeg A: Acht van Weelde Grobbendonk 100 km
DESCRIPTION:
URL:https://desprinters.be/event/ploeg-a-acht-van-weelde-grobbendonk-100-km/
END:VEVENT
BEGIN:VEVENT
DTSTART;TZID=Europe/Paris:20220423T130000
DTEND;TZID=Europe/Paris:20220423T130000
DTSTAMP:20260421T154358
CREATED:20220215T182806Z
LAST-MODIFIED:20220215T182806Z
UID:3721-1650718800-1650718800@desprinters.be
SUMMARY:Ploeg A: Arkrit Heideschuur 100 km
DESCRIPTION:
URL:https://desprinters.be/event/ploeg-a-arkrit-heideschuur-100-km/
END:VEVENT
BEGIN:VEVENT
DTSTART;TZID=Europe/Paris:20220423T120000
DTEND;TZID=Europe/Paris:20220423T120000
DTSTAMP:20260421T154358
CREATED:20220215T182905Z
LAST-MODIFIED:20220215T182905Z
UID:3723-1650715200-1650715200@desprinters.be
SUMMARY:Ploeg B: Arkrit Heideschuur 100 km
DESCRIPTION:
URL:https://desprinters.be/event/ploeg-b-arkrit-heideschuur-100-km/
END:VEVENT
BEGIN:VEVENT
DTSTART;TZID=Europe/Paris:20220418T080000
DTEND;TZID=Europe/Paris:20220418T080000
DTSTAMP:20260421T154358
CREATED:20220215T182651Z
LAST-MODIFIED:20220215T182651Z
UID:3719-1650268800-1650268800@desprinters.be
SUMMARY:Ploeg B: Rondrit Paasei Oostmalle 75 km
DESCRIPTION:
URL:https://desprinters.be/event/ploeg-b-rondrit-paasei-oostmalle-75-km/
END:VEVENT
BEGIN:VEVENT
DTSTART;TZID=Europe/Paris:20220418T080000
DTEND;TZID=Europe/Paris:20220418T080000
DTSTAMP:20260421T154358
CREATED:20220215T182548Z
LAST-MODIFIED:20220215T182548Z
UID:3717-1650268800-1650268800@desprinters.be
SUMMARY:Ploeg A: Bouwel Tesselt 105 km
DESCRIPTION:
URL:https://desprinters.be/event/ploeg-a-bouwel-tesselt-105-km/
END:VEVENT
END:VCALENDAR