BEGIN:VCALENDAR
VERSION:2.0
PRODID:-//WTC De Sprinters - ECPv6.15.20//NONSGML v1.0//EN
CALSCALE:GREGORIAN
METHOD:PUBLISH
X-WR-CALNAME:WTC De Sprinters
X-ORIGINAL-URL:https://desprinters.be
X-WR-CALDESC:Evenementen voor WTC De Sprinters
REFRESH-INTERVAL;VALUE=DURATION:PT1H
X-Robots-Tag:noindex
X-PUBLISHED-TTL:PT1H
BEGIN:VTIMEZONE
TZID:Europe/Brussels
BEGIN:DAYLIGHT
TZOFFSETFROM:+0100
TZOFFSETTO:+0200
TZNAME:CEST
DTSTART:20210328T010000
END:DAYLIGHT
BEGIN:STANDARD
TZOFFSETFROM:+0200
TZOFFSETTO:+0100
TZNAME:CET
DTSTART:20211031T010000
END:STANDARD
BEGIN:DAYLIGHT
TZOFFSETFROM:+0100
TZOFFSETTO:+0200
TZNAME:CEST
DTSTART:20220327T010000
END:DAYLIGHT
BEGIN:STANDARD
TZOFFSETFROM:+0200
TZOFFSETTO:+0100
TZNAME:CET
DTSTART:20221030T010000
END:STANDARD
BEGIN:DAYLIGHT
TZOFFSETFROM:+0100
TZOFFSETTO:+0200
TZNAME:CEST
DTSTART:20230326T010000
END:DAYLIGHT
BEGIN:STANDARD
TZOFFSETFROM:+0200
TZOFFSETTO:+0100
TZNAME:CET
DTSTART:20231029T010000
END:STANDARD
END:VTIMEZONE
BEGIN:VEVENT
DTSTART;TZID=Europe/Brussels:20220814T080000
DTEND;TZID=Europe/Brussels:20220814T080000
DTSTAMP:20260422T042653
CREATED:20220221T195401Z
LAST-MODIFIED:20220221T195401Z
UID:3950-1660464000-1660464000@desprinters.be
SUMMARY:Ploeg B: Militair kamp Grobbendonk 75 km
DESCRIPTION:
URL:https://desprinters.be/event/ploeg-b-militair-kamp-grobbendonk-75-km/
END:VEVENT
BEGIN:VEVENT
DTSTART;TZID=Europe/Brussels:20220814T080000
DTEND;TZID=Europe/Brussels:20220814T080000
DTSTAMP:20260422T042653
CREATED:20220221T195336Z
LAST-MODIFIED:20220221T195336Z
UID:3948-1660464000-1660464000@desprinters.be
SUMMARY:Ploeg A: Militair kamp Grobbendonk 100 km
DESCRIPTION:
URL:https://desprinters.be/event/ploeg-a-militair-kamp-grobbendonk-100-km/
END:VEVENT
BEGIN:VEVENT
DTSTART;TZID=Europe/Brussels:20220813T130000
DTEND;TZID=Europe/Brussels:20220813T130000
DTSTAMP:20260422T042653
CREATED:20220221T195216Z
LAST-MODIFIED:20220221T195216Z
UID:3944-1660395600-1660395600@desprinters.be
SUMMARY:Ploeg A: Eigen rit | 100 km
DESCRIPTION:
URL:https://desprinters.be/event/ploeg-a-eigen-rit-100-km-10/
END:VEVENT
BEGIN:VEVENT
DTSTART;TZID=Europe/Brussels:20220813T080000
DTEND;TZID=Europe/Brussels:20220813T080000
DTSTAMP:20260422T042653
CREATED:20220221T195253Z
LAST-MODIFIED:20220221T195253Z
UID:3946-1660377600-1660377600@desprinters.be
SUMMARY:Ploeg B: Dwars door Limburg Linkhout 113 km MA
DESCRIPTION:
URL:https://desprinters.be/event/ploeg-b-dwars-door-limburg-linkhout-113-km-ma/
END:VEVENT
BEGIN:VEVENT
DTSTART;TZID=Europe/Brussels:20220807T080000
DTEND;TZID=Europe/Brussels:20220807T080000
DTSTAMP:20260422T042653
CREATED:20220221T195134Z
LAST-MODIFIED:20220221T195134Z
UID:3942-1659859200-1659859200@desprinters.be
SUMMARY:Ploeg B: MTB Mastentop wegrit Gust 75 km
DESCRIPTION:
URL:https://desprinters.be/event/ploeg-b-mtb-mastentop-wegrit-gust-75-km/
END:VEVENT
BEGIN:VEVENT
DTSTART;TZID=Europe/Brussels:20220807T080000
DTEND;TZID=Europe/Brussels:20220807T080000
DTSTAMP:20260422T042653
CREATED:20220221T195058Z
LAST-MODIFIED:20220221T195058Z
UID:3940-1659859200-1659859200@desprinters.be
SUMMARY:Ploeg A: MTB Mastentop 85 km
DESCRIPTION:
URL:https://desprinters.be/event/ploeg-a-mtb-mastentop-85-km/
END:VEVENT
BEGIN:VEVENT
DTSTART;TZID=Europe/Brussels:20220806T130000
DTEND;TZID=Europe/Brussels:20220806T130000
DTSTAMP:20260422T042653
CREATED:20220221T194913Z
LAST-MODIFIED:20220221T194913Z
UID:3936-1659790800-1659790800@desprinters.be
SUMMARY:Ploeg A: Mol-Wezel nr. 116 | 101 km
DESCRIPTION:
URL:https://desprinters.be/event/ploeg-a-mol-wezel-nr-116-101-km/
END:VEVENT
BEGIN:VEVENT
DTSTART;TZID=Europe/Brussels:20220806T080000
DTEND;TZID=Europe/Brussels:20220806T130000
DTSTAMP:20260422T042653
CREATED:20220221T195025Z
LAST-MODIFIED:20220221T195025Z
UID:3938-1659772800-1659790800@desprinters.be
SUMMARY:Ploeg B: Konijnenbergrit Vosselaar 75 km
DESCRIPTION:
URL:https://desprinters.be/event/ploeg-b-konijnenbergrit-vosselaar-75-km/
END:VEVENT
BEGIN:VEVENT
DTSTART;TZID=Europe/Brussels:20220731T080000
DTEND;TZID=Europe/Brussels:20220731T170000
DTSTAMP:20260422T042653
CREATED:20220221T194834Z
LAST-MODIFIED:20220221T194834Z
UID:3934-1659254400-1659286800@desprinters.be
SUMMARY:Ploeg B: MTB Lichtaartwegritnr. 72 | 73 km
DESCRIPTION:
URL:https://desprinters.be/event/ploeg-b-mtb-lichtaartwegritnr-72-73-km/
END:VEVENT
BEGIN:VEVENT
DTSTART;TZID=Europe/Brussels:20220731T080000
DTEND;TZID=Europe/Brussels:20220731T080000
DTSTAMP:20260422T042653
CREATED:20220221T194804Z
LAST-MODIFIED:20220221T194804Z
UID:3932-1659254400-1659254400@desprinters.be
SUMMARY:Ploeg A: eigen rit | 100 km
DESCRIPTION:
URL:https://desprinters.be/event/ploeg-a-eigen-rit-100-km-9/
END:VEVENT
BEGIN:VEVENT
DTSTART;TZID=Europe/Brussels:20220730T130000
DTEND;TZID=Europe/Brussels:20220730T130000
DTSTAMP:20260422T042653
CREATED:20220221T194700Z
LAST-MODIFIED:20220221T194700Z
UID:3928-1659186000-1659186000@desprinters.be
SUMMARY:Ploeg A: ‘t Fonteintje nr. 51 | 100 km
DESCRIPTION:
URL:https://desprinters.be/event/ploeg-a-t-fonteintje-nr-51-100-km/
END:VEVENT
BEGIN:VEVENT
DTSTART;TZID=Europe/Brussels:20220730T120000
DTEND;TZID=Europe/Brussels:20220730T120000
DTSTAMP:20260422T042653
CREATED:20220221T194731Z
LAST-MODIFIED:20220221T194731Z
UID:3930-1659182400-1659182400@desprinters.be
SUMMARY:Ploeg B: ‘t Fonteintje nr. 51 | 100 km
DESCRIPTION:
URL:https://desprinters.be/event/ploeg-b-t-fonteintje-nr-51-100-km/
END:VEVENT
BEGIN:VEVENT
DTSTART;TZID=Europe/Brussels:20220724T080000
DTEND;TZID=Europe/Brussels:20220724T080000
DTSTAMP:20260422T042653
CREATED:20220221T194309Z
LAST-MODIFIED:20220221T194309Z
UID:3926-1658649600-1658649600@desprinters.be
SUMMARY:Ploeg B: Engsbergen nr. 100 | 78 km
DESCRIPTION:
URL:https://desprinters.be/event/ploeg-b-engsbergen-nr-100-78-km/
END:VEVENT
BEGIN:VEVENT
DTSTART;TZID=Europe/Brussels:20220724T080000
DTEND;TZID=Europe/Brussels:20220724T080000
DTSTAMP:20260422T042653
CREATED:20220221T194204Z
LAST-MODIFIED:20220221T194204Z
UID:3924-1658649600-1658649600@desprinters.be
SUMMARY:Ploeg A: Rit naar Eindhoven nr. 113 | 105 km
DESCRIPTION:
URL:https://desprinters.be/event/ploeg-a-rit-naar-eindhoven-nr-113-105-km/
END:VEVENT
BEGIN:VEVENT
DTSTART;TZID=Europe/Brussels:20220723T130000
DTEND;TZID=Europe/Brussels:20220723T130000
DTSTAMP:20260422T042653
CREATED:20220221T194047Z
LAST-MODIFIED:20220221T194047Z
UID:3920-1658581200-1658581200@desprinters.be
SUMMARY:Ploeg B: Voortkapel nr. 71 | 76 km
DESCRIPTION:
URL:https://desprinters.be/event/ploeg-b-voortkapel-nr-71-76-km/
END:VEVENT
BEGIN:VEVENT
DTSTART;TZID=Europe/Brussels:20220723T130000
DTEND;TZID=Europe/Brussels:20220723T130000
DTSTAMP:20260422T042653
CREATED:20220221T193946Z
LAST-MODIFIED:20220221T193946Z
UID:3918-1658581200-1658581200@desprinters.be
SUMMARY:Ploeg A: Eigen rit 100 km
DESCRIPTION:
URL:https://desprinters.be/event/ploeg-a-eigen-rit-100-km-8/
END:VEVENT
BEGIN:VEVENT
DTSTART;VALUE=DATE:20220723
DTEND;VALUE=DATE:20220724
DTSTAMP:20260422T042653
CREATED:20220221T194116Z
LAST-MODIFIED:20220221T194116Z
UID:3922-1658534400-1658620799@desprinters.be
SUMMARY:Aankomst vanuit Italië
DESCRIPTION:
URL:https://desprinters.be/event/aankomst-vanuit-italie/
END:VEVENT
BEGIN:VEVENT
DTSTART;TZID=Europe/Brussels:20220721T080000
DTEND;TZID=Europe/Brussels:20220721T080000
DTSTAMP:20260422T042653
CREATED:20220221T175803Z
LAST-MODIFIED:20220221T175803Z
UID:3916-1658390400-1658390400@desprinters.be
SUMMARY:Ploeg B: Ronde van Beerse ‘t Hemeltje 75 km
DESCRIPTION:
URL:https://desprinters.be/event/ploeg-b-ronde-van-beerse-t-hemeltje-75-km/
END:VEVENT
BEGIN:VEVENT
DTSTART;TZID=Europe/Brussels:20220721T080000
DTEND;TZID=Europe/Brussels:20220721T080000
DTSTAMP:20260422T042653
CREATED:20220221T175720Z
LAST-MODIFIED:20220221T175720Z
UID:3914-1658390400-1658390400@desprinters.be
SUMMARY:Ploeg A: Eigen rit 100 km
DESCRIPTION:
URL:https://desprinters.be/event/ploeg-a-eigen-rit-100-km-7/
END:VEVENT
BEGIN:VEVENT
DTSTART;TZID=Europe/Brussels:20220717T080000
DTEND;TZID=Europe/Brussels:20220717T080000
DTSTAMP:20260422T042653
CREATED:20220221T175633Z
LAST-MODIFIED:20220221T175633Z
UID:3912-1658044800-1658044800@desprinters.be
SUMMARY:Ploeg B: Herselt nr. 15 | 75 km
DESCRIPTION:
URL:https://desprinters.be/event/ploeg-b-herselt-nr-15-75-km-2/
END:VEVENT
BEGIN:VEVENT
DTSTART;TZID=Europe/Brussels:20220717T080000
DTEND;TZID=Europe/Brussels:20220717T080000
DTSTAMP:20260422T042653
CREATED:20220221T175515Z
LAST-MODIFIED:20220221T175515Z
UID:3910-1658044800-1658044800@desprinters.be
SUMMARY:Ploeg A: Eigen rit | 100 km
DESCRIPTION:
URL:https://desprinters.be/event/ploeg-a-eigen-rit-100-km-5/
END:VEVENT
BEGIN:VEVENT
DTSTART;TZID=Europe/Brussels:20220716T130000
DTEND;TZID=Europe/Brussels:20220716T130000
DTSTAMP:20260422T042653
CREATED:20220221T175407Z
LAST-MODIFIED:20220221T175407Z
UID:3906-1657976400-1657976400@desprinters.be
SUMMARY:Ploeg B: Zondereigen nr. 23 | 75 km
DESCRIPTION:
URL:https://desprinters.be/event/ploeg-b-zondereigen-nr-23-75-km/
END:VEVENT
BEGIN:VEVENT
DTSTART;TZID=Europe/Brussels:20220716T130000
DTEND;TZID=Europe/Brussels:20220716T130000
DTSTAMP:20260422T042653
CREATED:20220221T175058Z
LAST-MODIFIED:20220221T175058Z
UID:3903-1657976400-1657976400@desprinters.be
SUMMARY:Ploeg A: Eigen rit 100 km
DESCRIPTION:
URL:https://desprinters.be/event/ploeg-a-eigen-rit-100-km-4/
END:VEVENT
BEGIN:VEVENT
DTSTART;VALUE=DATE:20220716
DTEND;VALUE=DATE:20220717
DTSTAMP:20260422T042653
CREATED:20220221T175433Z
LAST-MODIFIED:20220221T175433Z
UID:3908-1657929600-1658015999@desprinters.be
SUMMARY:Vertrek naar Italië
DESCRIPTION:
URL:https://desprinters.be/event/vertrek-naar-italie/
END:VEVENT
BEGIN:VEVENT
DTSTART;TZID=Europe/Brussels:20220710T080000
DTEND;TZID=Europe/Brussels:20220710T080000
DTSTAMP:20260422T042653
CREATED:20220221T175015Z
LAST-MODIFIED:20220221T175015Z
UID:3901-1657440000-1657440000@desprinters.be
SUMMARY:Ploeg B: Ronde van Arendonk 75 km
DESCRIPTION:
URL:https://desprinters.be/event/ploeg-b-ronde-van-arendonk-75-km/
END:VEVENT
BEGIN:VEVENT
DTSTART;TZID=Europe/Brussels:20220710T080000
DTEND;TZID=Europe/Brussels:20220710T080000
DTSTAMP:20260422T042653
CREATED:20220221T174934Z
LAST-MODIFIED:20220221T174934Z
UID:3899-1657440000-1657440000@desprinters.be
SUMMARY:Ploeg A: Vorselaar nr. 91 | 100 km
DESCRIPTION:
URL:https://desprinters.be/event/ploeg-a-vorselaar-nr-91-100-km/
END:VEVENT
BEGIN:VEVENT
DTSTART;TZID=Europe/Brussels:20220709T060000
DTEND;TZID=Europe/Brussels:20220709T060000
DTSTAMP:20260422T042653
CREATED:20220221T174840Z
LAST-MODIFIED:20220221T174840Z
UID:3897-1657346400-1657346400@desprinters.be
SUMMARY:Ploeg A+B: rit naar zee 170 km
DESCRIPTION:
URL:https://desprinters.be/event/ploeg-ab-rit-naar-zee-170-km/
END:VEVENT
BEGIN:VEVENT
DTSTART;TZID=Europe/Brussels:20220703T080000
DTEND;TZID=Europe/Brussels:20220703T080000
DTSTAMP:20260422T042653
CREATED:20220221T174758Z
LAST-MODIFIED:20220221T174758Z
UID:3895-1656835200-1656835200@desprinters.be
SUMMARY:Ploeg B: Mellerit Turnhout 75 km
DESCRIPTION:
URL:https://desprinters.be/event/ploeg-b-mellerit-turnhout-75-km/
END:VEVENT
BEGIN:VEVENT
DTSTART;TZID=Europe/Brussels:20220703T080000
DTEND;TZID=Europe/Brussels:20220703T080000
DTSTAMP:20260422T042653
CREATED:20220221T174718Z
LAST-MODIFIED:20220221T174718Z
UID:3893-1656835200-1656835200@desprinters.be
SUMMARY:Ploeg A: Mellerit Turnhout 100 km
DESCRIPTION:
URL:https://desprinters.be/event/ploeg-a-mellerit-turnhout-100-km/
END:VEVENT
BEGIN:VEVENT
DTSTART;TZID=Europe/Brussels:20220702T130000
DTEND;TZID=Europe/Brussels:20220702T130000
DTSTAMP:20260422T042653
CREATED:20220221T174644Z
LAST-MODIFIED:20220621T152935Z
UID:3891-1656766800-1656766800@desprinters.be
SUMMARY:Ploeg B: Eigen rit 75 km
DESCRIPTION:
URL:https://desprinters.be/event/ploeg-b-getestreek-herk-de-stad-100-of-70-km/
END:VEVENT
END:VCALENDAR