BEGIN:VCALENDAR
VERSION:2.0
PRODID:-//WTC De Sprinters - ECPv6.15.20//NONSGML v1.0//EN
CALSCALE:GREGORIAN
METHOD:PUBLISH
X-WR-CALNAME:WTC De Sprinters
X-ORIGINAL-URL:https://desprinters.be
X-WR-CALDESC:Evenementen voor WTC De Sprinters
REFRESH-INTERVAL;VALUE=DURATION:PT1H
X-Robots-Tag:noindex
X-PUBLISHED-TTL:PT1H
BEGIN:VTIMEZONE
TZID:Europe/Brussels
BEGIN:DAYLIGHT
TZOFFSETFROM:+0100
TZOFFSETTO:+0200
TZNAME:CEST
DTSTART:20220327T010000
END:DAYLIGHT
BEGIN:STANDARD
TZOFFSETFROM:+0200
TZOFFSETTO:+0100
TZNAME:CET
DTSTART:20221030T010000
END:STANDARD
BEGIN:DAYLIGHT
TZOFFSETFROM:+0100
TZOFFSETTO:+0200
TZNAME:CEST
DTSTART:20230326T010000
END:DAYLIGHT
BEGIN:STANDARD
TZOFFSETFROM:+0200
TZOFFSETTO:+0100
TZNAME:CET
DTSTART:20231029T010000
END:STANDARD
BEGIN:DAYLIGHT
TZOFFSETFROM:+0100
TZOFFSETTO:+0200
TZNAME:CEST
DTSTART:20240331T010000
END:DAYLIGHT
BEGIN:STANDARD
TZOFFSETFROM:+0200
TZOFFSETTO:+0100
TZNAME:CET
DTSTART:20241027T010000
END:STANDARD
END:VTIMEZONE
BEGIN:VEVENT
DTSTART;TZID=Europe/Brussels:20230430T080000
DTEND;TZID=Europe/Brussels:20230430T080000
DTSTAMP:20260420T221552
CREATED:20230131T075934Z
LAST-MODIFIED:20230131T075934Z
UID:4620-1682841600-1682841600@desprinters.be
SUMMARY:A-Ploeg: Acht van Weelde - 100 km
DESCRIPTION:
URL:https://desprinters.be/event/a-ploeg-acht-van-weelde-100-km/
LOCATION:Antwerpen
ORGANIZER;CN="WTC De Sprinters":MAILTO:lincey.vandenputte@gmail.com
END:VEVENT
BEGIN:VEVENT
DTSTART;TZID=Europe/Brussels:20230429T130000
DTEND;TZID=Europe/Brussels:20230429T130000
DTSTAMP:20260420T221552
CREATED:20230131T075741Z
LAST-MODIFIED:20230131T082134Z
UID:4616-1682773200-1682773200@desprinters.be
SUMMARY:A-Ploeg: Hamont-Achel - Ritnr 159 - 100 km
DESCRIPTION:
URL:https://desprinters.be/event/a-ploeg-hamont-achel-ritnr-x-100-km/
LOCATION:Antwerpen
ORGANIZER;CN="WTC De Sprinters":MAILTO:lincey.vandenputte@gmail.com
END:VEVENT
BEGIN:VEVENT
DTSTART;TZID=Europe/Brussels:20230429T120000
DTEND;TZID=Europe/Brussels:20230429T120000
DTSTAMP:20260420T221552
CREATED:20230131T075845Z
LAST-MODIFIED:20230131T082111Z
UID:4618-1682769600-1682769600@desprinters.be
SUMMARY:B-Ploeg: Hamont-Achel - Ritnr 159 - 100 km
DESCRIPTION:
URL:https://desprinters.be/event/b-ploeg-hamont-achel-ritnr-x-100-km/
LOCATION:Antwerpen
ORGANIZER;CN="WTC De Sprinters":MAILTO:lincey.vandenputte@gmail.com
END:VEVENT
BEGIN:VEVENT
DTSTART;TZID=Europe/Brussels:20230423T080000
DTEND;TZID=Europe/Brussels:20230423T080000
DTSTAMP:20260420T221552
CREATED:20230131T072903Z
LAST-MODIFIED:20230131T072903Z
UID:4614-1682236800-1682236800@desprinters.be
SUMMARY:B-Ploeg - Langdorp - Ritnr 143 - 75 km
DESCRIPTION:
URL:https://desprinters.be/event/b-ploeg-langdorp-ritnr-143-75-km/
LOCATION:Antwerpen
ORGANIZER;CN="WTC De Sprinters":MAILTO:lincey.vandenputte@gmail.com
END:VEVENT
BEGIN:VEVENT
DTSTART;TZID=Europe/Brussels:20230423T080000
DTEND;TZID=Europe/Brussels:20230423T080000
DTSTAMP:20260420T221552
CREATED:20230131T072824Z
LAST-MODIFIED:20230131T072824Z
UID:4612-1682236800-1682236800@desprinters.be
SUMMARY:A-Ploeg: Baal - Ritnr 120 - 107 km
DESCRIPTION:
URL:https://desprinters.be/event/a-ploeg-baal-ritnr-120-107-km/
LOCATION:Antwerpen
ORGANIZER;CN="WTC De Sprinters":MAILTO:lincey.vandenputte@gmail.com
END:VEVENT
BEGIN:VEVENT
DTSTART;TZID=Europe/Brussels:20230422T130000
DTEND;TZID=Europe/Brussels:20230422T130000
DTSTAMP:20260420T221552
CREATED:20230131T072709Z
LAST-MODIFIED:20230131T072709Z
UID:4610-1682168400-1682168400@desprinters.be
SUMMARY:B-Ploeg: Engsbergen - Ritnr 100 - 78 km
DESCRIPTION:
URL:https://desprinters.be/event/b-ploeg-engsbergen-ritnr-100-78-km/
LOCATION:Antwerpen
ORGANIZER;CN="WTC De Sprinters":MAILTO:lincey.vandenputte@gmail.com
END:VEVENT
BEGIN:VEVENT
DTSTART;TZID=Europe/Brussels:20230422T130000
DTEND;TZID=Europe/Brussels:20230422T130000
DTSTAMP:20260420T221552
CREATED:20230131T072615Z
LAST-MODIFIED:20230131T072615Z
UID:4608-1682168400-1682168400@desprinters.be
SUMMARY:A-Ploeg: Lummen - Ritnr 115 - 104 km
DESCRIPTION:
URL:https://desprinters.be/event/a-ploeg-lummen-ritnr-115-104-km/
LOCATION:Antwerpen
ORGANIZER;CN="WTC De Sprinters":MAILTO:lincey.vandenputte@gmail.com
END:VEVENT
BEGIN:VEVENT
DTSTART;TZID=Europe/Brussels:20230416T080000
DTEND;TZID=Europe/Brussels:20230416T080000
DTSTAMP:20260420T221552
CREATED:20230131T072502Z
LAST-MODIFIED:20230131T072502Z
UID:4606-1681632000-1681632000@desprinters.be
SUMMARY:B-Ploeg: Campinatrappers Dessel - 75 km
DESCRIPTION:
URL:https://desprinters.be/event/b-ploeg-campinatrappers-dessel-75-km/
LOCATION:Antwerpen
ORGANIZER;CN="WTC De Sprinters":MAILTO:lincey.vandenputte@gmail.com
END:VEVENT
BEGIN:VEVENT
DTSTART;TZID=Europe/Brussels:20230416T080000
DTEND;TZID=Europe/Brussels:20230416T080000
DTSTAMP:20260420T221552
CREATED:20230131T072421Z
LAST-MODIFIED:20230131T072421Z
UID:4604-1681632000-1681632000@desprinters.be
SUMMARY:A-Ploeg: MTB Campinatrappers Dessel - 65 km
DESCRIPTION:
URL:https://desprinters.be/event/a-ploeg-mtb-campinatrappers-dessel-65-km/
LOCATION:Antwerpen
ORGANIZER;CN="WTC De Sprinters":MAILTO:lincey.vandenputte@gmail.com
END:VEVENT
BEGIN:VEVENT
DTSTART;TZID=Europe/Brussels:20230415T080000
DTEND;TZID=Europe/Brussels:20230415T080000
DTSTAMP:20260420T221552
CREATED:20230131T072308Z
LAST-MODIFIED:20230131T072308Z
UID:4602-1681545600-1681545600@desprinters.be
SUMMARY:B-Ploeg: Bloesem Classic Zonhoven !MA! - 130 km - DOODLE!
DESCRIPTION:
URL:https://desprinters.be/event/b-ploeg-bloesem-classic-zonhoven-ma-130-km-doodle/
LOCATION:Antwerpen
ORGANIZER;CN="WTC De Sprinters":MAILTO:lincey.vandenputte@gmail.com
END:VEVENT
BEGIN:VEVENT
DTSTART;TZID=Europe/Brussels:20230415T080000
DTEND;TZID=Europe/Brussels:20230415T080000
DTSTAMP:20260420T221552
CREATED:20230131T072154Z
LAST-MODIFIED:20230131T072154Z
UID:4600-1681545600-1681545600@desprinters.be
SUMMARY:A-Ploeg: Bloesem Classic Zonhoven !MA! - 150 km - DOODLE!
DESCRIPTION:
URL:https://desprinters.be/event/a-ploeg-bloesem-classic-zonhoven-ma-150-km-doodle/
LOCATION:Antwerpen
ORGANIZER;CN="WTC De Sprinters":MAILTO:lincey.vandenputte@gmail.com
END:VEVENT
BEGIN:VEVENT
DTSTART;TZID=Europe/Brussels:20230410T080000
DTEND;TZID=Europe/Brussels:20230410T080000
DTSTAMP:20260420T221552
CREATED:20230131T071849Z
LAST-MODIFIED:20230131T071849Z
UID:4598-1681113600-1681113600@desprinters.be
SUMMARY:B-Ploeg: Gijmel - Ritnr 60 - 76 km
DESCRIPTION:
URL:https://desprinters.be/event/b-ploeg-gijmel-ritnr-60-76-km/
LOCATION:Antwerpen
ORGANIZER;CN="WTC De Sprinters":MAILTO:lincey.vandenputte@gmail.com
END:VEVENT
BEGIN:VEVENT
DTSTART;TZID=Europe/Brussels:20230410T080000
DTEND;TZID=Europe/Brussels:20230410T080000
DTSTAMP:20260420T221552
CREATED:20230131T071808Z
LAST-MODIFIED:20230131T071808Z
UID:4596-1681113600-1681113600@desprinters.be
SUMMARY:A-Ploeg: Hageland - Ritnr 88 - 103 km
DESCRIPTION:
URL:https://desprinters.be/event/a-ploeg-hageland-ritnr-88-103-km/
LOCATION:Antwerpen
ORGANIZER;CN="WTC De Sprinters":MAILTO:lincey.vandenputte@gmail.com
END:VEVENT
BEGIN:VEVENT
DTSTART;TZID=Europe/Brussels:20230409T080000
DTEND;TZID=Europe/Brussels:20230409T080000
DTSTAMP:20260420T221552
CREATED:20230131T071600Z
LAST-MODIFIED:20230131T082026Z
UID:4594-1681027200-1681027200@desprinters.be
SUMMARY:B-Ploeg - Mollenhof - Ritnr 158 - 76 km
DESCRIPTION:
URL:https://desprinters.be/event/b-ploeg-mollenhof-ritnr-x-76-km/
LOCATION:Antwerpen
ORGANIZER;CN="WTC De Sprinters":MAILTO:lincey.vandenputte@gmail.com
END:VEVENT
BEGIN:VEVENT
DTSTART;TZID=Europe/Brussels:20230409T080000
DTEND;TZID=Europe/Brussels:20230409T080000
DTSTAMP:20260420T221552
CREATED:20230131T071316Z
LAST-MODIFIED:20230131T071316Z
UID:4592-1681027200-1681027200@desprinters.be
SUMMARY:A-Ploeg: Haghorst - Ritnr 123 - 105 km
DESCRIPTION:
URL:https://desprinters.be/event/a-ploeg-haghorst-ritnr-123-105-km/
LOCATION:Antwerpen
ORGANIZER;CN="WTC De Sprinters":MAILTO:lincey.vandenputte@gmail.com
END:VEVENT
BEGIN:VEVENT
DTSTART;TZID=Europe/Brussels:20230408T130000
DTEND;TZID=Europe/Brussels:20230408T130000
DTSTAMP:20260420T221552
CREATED:20230131T071216Z
LAST-MODIFIED:20230131T081950Z
UID:4590-1680958800-1680958800@desprinters.be
SUMMARY:B-Ploeg: Hoge Mierde - Ritnr 157 - 75 km
DESCRIPTION:
URL:https://desprinters.be/event/b-ploeg-hoge-mierde-ritnr-x-75-km/
LOCATION:Antwerpen
ORGANIZER;CN="WTC De Sprinters":MAILTO:lincey.vandenputte@gmail.com
END:VEVENT
BEGIN:VEVENT
DTSTART;TZID=Europe/Brussels:20230408T130000
DTEND;TZID=Europe/Brussels:20230408T130000
DTSTAMP:20260420T221552
CREATED:20230131T071104Z
LAST-MODIFIED:20230131T071104Z
UID:4588-1680958800-1680958800@desprinters.be
SUMMARY:A-Ploeg: Richting Antwerpen - Ritnr 110 - 100 km
DESCRIPTION:
URL:https://desprinters.be/event/a-ploeg-richting-antwerpen-ritnr-110-100-km/
LOCATION:Antwerpen
ORGANIZER;CN="WTC De Sprinters":MAILTO:lincey.vandenputte@gmail.com
END:VEVENT
BEGIN:VEVENT
DTSTART;TZID=Europe/Brussels:20230402T080000
DTEND;TZID=Europe/Brussels:20230402T080000
DTSTAMP:20260420T221552
CREATED:20230131T070954Z
LAST-MODIFIED:20230131T070954Z
UID:4586-1680422400-1680422400@desprinters.be
SUMMARY:B-Ploeg: Gerheide - Ritnr 66 - 75 km
DESCRIPTION:
URL:https://desprinters.be/event/b-ploeg-gerheide-ritnr-66-75-km/
LOCATION:Antwerpen
ORGANIZER;CN="WTC De Sprinters":MAILTO:lincey.vandenputte@gmail.com
END:VEVENT
BEGIN:VEVENT
DTSTART;TZID=Europe/Brussels:20230402T080000
DTEND;TZID=Europe/Brussels:20230402T080000
DTSTAMP:20260420T221552
CREATED:20230131T070909Z
LAST-MODIFIED:20230131T070909Z
UID:4584-1680422400-1680422400@desprinters.be
SUMMARY:A-Ploeg: Hamont-Achel - Ritnr 122 - 100 km
DESCRIPTION:
URL:https://desprinters.be/event/a-ploeg-hamont-achel-ritnr-122-100-km/
LOCATION:Antwerpen
ORGANIZER;CN="WTC De Sprinters":MAILTO:lincey.vandenputte@gmail.com
END:VEVENT
BEGIN:VEVENT
DTSTART;TZID=Europe/Brussels:20230401T130000
DTEND;TZID=Europe/Brussels:20230401T130000
DTSTAMP:20260420T221552
CREATED:20230131T065722Z
LAST-MODIFIED:20230131T065722Z
UID:4580-1680354000-1680354000@desprinters.be
SUMMARY:A-Ploeg: Eigen rit - 100 km
DESCRIPTION:
URL:https://desprinters.be/event/a-ploeg-eigen-rit-100-km/
LOCATION:Antwerpen
ORGANIZER;CN="WTC De Sprinters":MAILTO:lincey.vandenputte@gmail.com
END:VEVENT
BEGIN:VEVENT
DTSTART;TZID=Europe/Brussels:20230401T090000
DTEND;TZID=Europe/Brussels:20230401T090000
DTSTAMP:20260420T221552
CREATED:20230131T065906Z
LAST-MODIFIED:20230131T065906Z
UID:4582-1680339600-1680339600@desprinters.be
SUMMARY:B-Ploeg: In't Ven Oud-Turnhout - 130 km
DESCRIPTION:
URL:https://desprinters.be/event/b-ploeg-int-ven-oud-turnhout-130-km/
LOCATION:Antwerpen
ORGANIZER;CN="WTC De Sprinters":MAILTO:lincey.vandenputte@gmail.com
END:VEVENT
BEGIN:VEVENT
DTSTART;TZID=Europe/Brussels:20230331T200000
DTEND;TZID=Europe/Brussels:20230331T200000
DTSTAMP:20260420T221552
CREATED:20230207T093652Z
LAST-MODIFIED:20230207T093652Z
UID:4868-1680292800-1680292800@desprinters.be
SUMMARY:Velokesquiz - OC Kasterlee
DESCRIPTION:
URL:https://desprinters.be/event/velokesquiz-oc-kasterlee/
LOCATION:Antwerpen
END:VEVENT
BEGIN:VEVENT
DTSTART;TZID=Europe/Brussels:20230326T080000
DTEND;TZID=Europe/Brussels:20230326T080000
DTSTAMP:20260420T221552
CREATED:20230120T071532Z
LAST-MODIFIED:20230120T073602Z
UID:4524-1679817600-1679817600@desprinters.be
SUMMARY:B-Ploeg: Kessel Belle-Vue - Ritnr 156 - 75 km
DESCRIPTION:
URL:https://desprinters.be/event/b-ploeg-kessel-belle-vue-ritnr-156-75-km/
LOCATION:Antwerpen
ORGANIZER;CN="WTC De Sprinters":MAILTO:lincey.vandenputte@gmail.com
END:VEVENT
BEGIN:VEVENT
DTSTART;TZID=Europe/Brussels:20230326T080000
DTEND;TZID=Europe/Brussels:20230326T080000
DTSTAMP:20260420T221552
CREATED:20230120T071448Z
LAST-MODIFIED:20230120T071448Z
UID:4522-1679817600-1679817600@desprinters.be
SUMMARY:A-Ploeg: Hamsehoeven - Ritnr 139 - 100 km
DESCRIPTION:
URL:https://desprinters.be/event/a-ploeg-hamsehoeven-ritnr-139-100-km/
LOCATION:Antwerpen
ORGANIZER;CN="WTC De Sprinters":MAILTO:lincey.vandenputte@gmail.com
END:VEVENT
BEGIN:VEVENT
DTSTART;TZID=Europe/Brussels:20230325T130000
DTEND;TZID=Europe/Brussels:20230325T130000
DTSTAMP:20260420T221552
CREATED:20230120T071041Z
LAST-MODIFIED:20230320T145800Z
UID:4520-1679749200-1679749200@desprinters.be
SUMMARY:B-Ploeg: Poederlee - Ritnr 70 - 75 km
DESCRIPTION:
URL:https://desprinters.be/event/b-ploeg-poederlee-ritnr-70-75-km/
LOCATION:Antwerpen
ORGANIZER;CN="WTC De Sprinters":MAILTO:lincey.vandenputte@gmail.com
END:VEVENT
BEGIN:VEVENT
DTSTART;TZID=Europe/Brussels:20230325T130000
DTEND;TZID=Europe/Brussels:20230325T130000
DTSTAMP:20260420T221552
CREATED:20230120T070919Z
LAST-MODIFIED:20230320T145722Z
UID:4518-1679749200-1679749200@desprinters.be
SUMMARY:A-Ploeg: Lenterit Poederlee - 100 km - Den Hemel
DESCRIPTION:
URL:https://desprinters.be/event/a-ploeg-lenterit-poederlee-100-km-den-hemel/
LOCATION:Antwerpen
ORGANIZER;CN="WTC De Sprinters":MAILTO:lincey.vandenputte@gmail.com
END:VEVENT
BEGIN:VEVENT
DTSTART;TZID=Europe/Brussels:20230319T080000
DTEND;TZID=Europe/Brussels:20230319T080000
DTSTAMP:20260420T221552
CREATED:20230120T070720Z
LAST-MODIFIED:20230120T073532Z
UID:4516-1679212800-1679212800@desprinters.be
SUMMARY:B-Ploeg: Chapeau Merksplas (Katena) - Ritnr 155 - 75km
DESCRIPTION:
URL:https://desprinters.be/event/b-ploeg-chapeau-merksplas-katena-75km/
LOCATION:Antwerpen
ORGANIZER;CN="WTC De Sprinters":MAILTO:lincey.vandenputte@gmail.com
END:VEVENT
BEGIN:VEVENT
DTSTART;TZID=Europe/Brussels:20230319T080000
DTEND;TZID=Europe/Brussels:20230319T080000
DTSTAMP:20260420T221552
CREATED:20230120T070201Z
LAST-MODIFIED:20230120T070201Z
UID:4514-1679212800-1679212800@desprinters.be
SUMMARY:A-Ploeg: Eksel - Ritnr 85 - 95 km
DESCRIPTION:
URL:https://desprinters.be/event/a-ploeg-eksel-ritnr-85-95-km/
LOCATION:Antwerpen
ORGANIZER;CN="WTC De Sprinters":MAILTO:lincey.vandenputte@gmail.com
END:VEVENT
BEGIN:VEVENT
DTSTART;TZID=Europe/Brussels:20230318T090000
DTEND;TZID=Europe/Brussels:20230318T090000
DTSTAMP:20260420T221552
CREATED:20230120T070059Z
LAST-MODIFIED:20230120T070059Z
UID:4512-1679130000-1679130000@desprinters.be
SUMMARY:B-Ploeg: Molenslop Weelde - MA - 102 km (of 74km) - DOODLE!
DESCRIPTION:
URL:https://desprinters.be/event/b-ploeg-molenslop-weelde-ma-102-km-of-74km-doodle/
LOCATION:Antwerpen
ORGANIZER;CN="WTC De Sprinters":MAILTO:lincey.vandenputte@gmail.com
END:VEVENT
BEGIN:VEVENT
DTSTART;TZID=Europe/Brussels:20230318T090000
DTEND;TZID=Europe/Brussels:20230318T090000
DTSTAMP:20260420T221552
CREATED:20230120T065844Z
LAST-MODIFIED:20230120T065844Z
UID:4510-1679130000-1679130000@desprinters.be
SUMMARY:A-Ploeg: Molenslop Weelde - 135 km - DOODLE!
DESCRIPTION:
URL:https://desprinters.be/event/a-ploeg-molenslop-weelde-135-km-doodle/
LOCATION:Antwerpen
ORGANIZER;CN="WTC De Sprinters":MAILTO:lincey.vandenputte@gmail.com
END:VEVENT
END:VCALENDAR