BEGIN:VCALENDAR
VERSION:2.0
PRODID:-//WTC De Sprinters - ECPv6.15.20//NONSGML v1.0//EN
CALSCALE:GREGORIAN
METHOD:PUBLISH
X-WR-CALNAME:WTC De Sprinters
X-ORIGINAL-URL:https://desprinters.be
X-WR-CALDESC:Evenementen voor WTC De Sprinters
REFRESH-INTERVAL;VALUE=DURATION:PT1H
X-Robots-Tag:noindex
X-PUBLISHED-TTL:PT1H
BEGIN:VTIMEZONE
TZID:Europe/Brussels
BEGIN:DAYLIGHT
TZOFFSETFROM:+0100
TZOFFSETTO:+0200
TZNAME:CEST
DTSTART:20220327T010000
END:DAYLIGHT
BEGIN:STANDARD
TZOFFSETFROM:+0200
TZOFFSETTO:+0100
TZNAME:CET
DTSTART:20221030T010000
END:STANDARD
BEGIN:DAYLIGHT
TZOFFSETFROM:+0100
TZOFFSETTO:+0200
TZNAME:CEST
DTSTART:20230326T010000
END:DAYLIGHT
BEGIN:STANDARD
TZOFFSETFROM:+0200
TZOFFSETTO:+0100
TZNAME:CET
DTSTART:20231029T010000
END:STANDARD
BEGIN:DAYLIGHT
TZOFFSETFROM:+0100
TZOFFSETTO:+0200
TZNAME:CEST
DTSTART:20240331T010000
END:DAYLIGHT
BEGIN:STANDARD
TZOFFSETFROM:+0200
TZOFFSETTO:+0100
TZNAME:CET
DTSTART:20241027T010000
END:STANDARD
END:VTIMEZONE
BEGIN:VEVENT
DTSTART;TZID=Europe/Brussels:20230611T080000
DTEND;TZID=Europe/Brussels:20230611T080000
DTSTAMP:20260420T172331
CREATED:20230207T080613Z
LAST-MODIFIED:20230607T084511Z
UID:4723-1686470400-1686470400@desprinters.be
SUMMARY:B-Ploeg: Fietsdag Zammel - 75 km
DESCRIPTION:
URL:https://desprinters.be/event/b-ploeg-fietsdag-zammel-75-km/
LOCATION:Antwerpen
ORGANIZER;CN="WTC De Sprinters":MAILTO:lincey.vandenputte@gmail.com
END:VEVENT
BEGIN:VEVENT
DTSTART;TZID=Europe/Brussels:20230611T080000
DTEND;TZID=Europe/Brussels:20230611T080000
DTSTAMP:20260420T172331
CREATED:20230207T080503Z
LAST-MODIFIED:20230607T084542Z
UID:4721-1686470400-1686470400@desprinters.be
SUMMARY:A-Ploeg: Fietsdag Zammel - 95 km
DESCRIPTION:
URL:https://desprinters.be/event/a-ploeg-fietsdag-zammel-95-km/
LOCATION:Antwerpen
ORGANIZER;CN="WTC De Sprinters":MAILTO:lincey.vandenputte@gmail.com
END:VEVENT
BEGIN:VEVENT
DTSTART;TZID=Europe/Brussels:20230610T130000
DTEND;TZID=Europe/Brussels:20230610T130000
DTSTAMP:20260420T172331
CREATED:20230207T080247Z
LAST-MODIFIED:20230207T080247Z
UID:4717-1686402000-1686402000@desprinters.be
SUMMARY:A-Ploeg: Verloren uur - Ritnr 91 - 99 km
DESCRIPTION:
URL:https://desprinters.be/event/a-ploeg-verloren-uur-ritnr-91-99-km/
LOCATION:Antwerpen
ORGANIZER;CN="WTC De Sprinters":MAILTO:lincey.vandenputte@gmail.com
END:VEVENT
BEGIN:VEVENT
DTSTART;TZID=Europe/Brussels:20230610T080000
DTEND;TZID=Europe/Brussels:20230610T080000
DTSTAMP:20260420T172331
CREATED:20230207T080358Z
LAST-MODIFIED:20230207T080358Z
UID:4719-1686384000-1686384000@desprinters.be
SUMMARY:B-Ploeg: Vosselaar Classic - 115 km
DESCRIPTION:
URL:https://desprinters.be/event/b-ploeg-vosselaar-classic-115-km/
LOCATION:Antwerpen
ORGANIZER;CN="WTC De Sprinters":MAILTO:lincey.vandenputte@gmail.com
END:VEVENT
BEGIN:VEVENT
DTSTART;TZID=Europe/Brussels:20230604T080000
DTEND;TZID=Europe/Brussels:20230604T080000
DTSTAMP:20260420T172331
CREATED:20230207T080050Z
LAST-MODIFIED:20230207T080135Z
UID:4715-1685865600-1685865600@desprinters.be
SUMMARY:B-Ploeg: Dag van de Fiets - 75 km
DESCRIPTION:
URL:https://desprinters.be/event/b-ploeg-dag-van-de-fiets-75-km/
LOCATION:Antwerpen
ORGANIZER;CN="WTC De Sprinters":MAILTO:lincey.vandenputte@gmail.com
END:VEVENT
BEGIN:VEVENT
DTSTART;TZID=Europe/Brussels:20230604T073000
DTEND;TZID=Europe/Brussels:20230604T073000
DTSTAMP:20260420T172331
CREATED:20230207T075953Z
LAST-MODIFIED:20230207T080117Z
UID:4713-1685863800-1685863800@desprinters.be
SUMMARY:A-Ploeg: Dag van de Fiets - Pijlen nakijken - 75 km
DESCRIPTION:
URL:https://desprinters.be/event/a-ploeg-dag-van-de-fiets-pijlen-nakijken-75-km/
LOCATION:Antwerpen
ORGANIZER;CN="WTC De Sprinters":MAILTO:lincey.vandenputte@gmail.com
END:VEVENT
BEGIN:VEVENT
DTSTART;TZID=Europe/Brussels:20230603T130000
DTEND;TZID=Europe/Brussels:20230603T130000
DTSTAMP:20260420T172331
CREATED:20230207T075814Z
LAST-MODIFIED:20230207T075814Z
UID:4711-1685797200-1685797200@desprinters.be
SUMMARY:B-Ploeg: Parkinson Oud-Turnhout - 75 km
DESCRIPTION:
URL:https://desprinters.be/event/b-ploeg-parkinson-oud-turnhout-75-km/
LOCATION:Antwerpen
ORGANIZER;CN="WTC De Sprinters":MAILTO:lincey.vandenputte@gmail.com
END:VEVENT
BEGIN:VEVENT
DTSTART;TZID=Europe/Brussels:20230603T130000
DTEND;TZID=Europe/Brussels:20230603T130000
DTSTAMP:20260420T172331
CREATED:20230207T075703Z
LAST-MODIFIED:20230207T075703Z
UID:4709-1685797200-1685797200@desprinters.be
SUMMARY:A-Ploeg: Fonteintje - Ritnr 51 - 101 km
DESCRIPTION:
URL:https://desprinters.be/event/a-ploeg-fonteintje-ritnr-51-101-km/
LOCATION:Antwerpen
ORGANIZER;CN="WTC De Sprinters":MAILTO:lincey.vandenputte@gmail.com
END:VEVENT
BEGIN:VEVENT
DTSTART;TZID=Europe/Brussels:20230529T090000
DTEND;TZID=Europe/Brussels:20230529T090000
DTSTAMP:20260420T172331
CREATED:20230131T102439Z
LAST-MODIFIED:20230131T105039Z
UID:4674-1685350800-1685350800@desprinters.be
SUMMARY:B-Ploeg: Geraardsbergen - Ten-Aard - Ritnr 1003 - 128 km
DESCRIPTION:
URL:https://desprinters.be/event/b-ploeg-geraardsbergen-ten-aard-ritnr-x-128-km/
LOCATION:Antwerpen
ORGANIZER;CN="WTC De Sprinters":MAILTO:lincey.vandenputte@gmail.com
END:VEVENT
BEGIN:VEVENT
DTSTART;TZID=Europe/Brussels:20230529T090000
DTEND;TZID=Europe/Brussels:20230529T090000
DTSTAMP:20260420T172331
CREATED:20230131T102346Z
LAST-MODIFIED:20230131T102346Z
UID:4672-1685350800-1685350800@desprinters.be
SUMMARY:A-Ploeg: Geraardsbergen - Ten-Aard - Ritnr X - 130 km
DESCRIPTION:
URL:https://desprinters.be/event/a-ploeg-geraardsbergen-ten-aard-ritnr-x-130-km/
LOCATION:Antwerpen
ORGANIZER;CN="WTC De Sprinters":MAILTO:lincey.vandenputte@gmail.com
END:VEVENT
BEGIN:VEVENT
DTSTART;TZID=Europe/Brussels:20230529T080000
DTEND;TZID=Europe/Brussels:20230529T080000
DTSTAMP:20260420T172331
CREATED:20230131T102901Z
LAST-MODIFIED:20230131T102901Z
UID:4686-1685347200-1685347200@desprinters.be
SUMMARY:B-Ploeg: Ritnr 77 - 75 km
DESCRIPTION:
URL:https://desprinters.be/event/b-ploeg-ritnr-77-75-km/
LOCATION:Antwerpen
ORGANIZER;CN="WTC De Sprinters":MAILTO:lincey.vandenputte@gmail.com
END:VEVENT
BEGIN:VEVENT
DTSTART;TZID=Europe/Brussels:20230529T080000
DTEND;TZID=Europe/Brussels:20230529T080000
DTSTAMP:20260420T172331
CREATED:20230131T102749Z
LAST-MODIFIED:20230131T102749Z
UID:4682-1685347200-1685347200@desprinters.be
SUMMARY:A-Ploeg: Eigen rit - 100 km
DESCRIPTION:
URL:https://desprinters.be/event/a-ploeg-eigen-rit-100-km-4/
LOCATION:Antwerpen
ORGANIZER;CN="WTC De Sprinters":MAILTO:lincey.vandenputte@gmail.com
END:VEVENT
BEGIN:VEVENT
DTSTART;TZID=Europe/Brussels:20230528T090000
DTEND;TZID=Europe/Brussels:20230528T090000
DTSTAMP:20260420T172331
CREATED:20230131T102220Z
LAST-MODIFIED:20230131T105115Z
UID:4670-1685264400-1685264400@desprinters.be
SUMMARY:B-Ploeg: Geraardsbergen - Ritnr 2018 - 60 km
DESCRIPTION:
URL:https://desprinters.be/event/b-ploeg-geraardsbergen-ritnr-x-60-km/
LOCATION:Antwerpen
ORGANIZER;CN="WTC De Sprinters":MAILTO:lincey.vandenputte@gmail.com
END:VEVENT
BEGIN:VEVENT
DTSTART;TZID=Europe/Brussels:20230528T090000
DTEND;TZID=Europe/Brussels:20230528T090000
DTSTAMP:20260420T172331
CREATED:20230131T102138Z
LAST-MODIFIED:20230131T124510Z
UID:4668-1685264400-1685264400@desprinters.be
SUMMARY:A-Ploeg: Geraardsbergen - Ritnr 2019 - 75 km
DESCRIPTION:
URL:https://desprinters.be/event/a-ploeg-geraardsbergen-ritnr-x-80-km/
LOCATION:Antwerpen
ORGANIZER;CN="WTC De Sprinters":MAILTO:lincey.vandenputte@gmail.com
END:VEVENT
BEGIN:VEVENT
DTSTART;TZID=Europe/Brussels:20230528T080000
DTEND;TZID=Europe/Brussels:20230528T080000
DTSTAMP:20260420T172331
CREATED:20230131T102828Z
LAST-MODIFIED:20230131T102828Z
UID:4684-1685260800-1685260800@desprinters.be
SUMMARY:B-Ploeg: Ritnr 66 - 75 km
DESCRIPTION:
URL:https://desprinters.be/event/b-ploeg-ritnr-66-75-km/
LOCATION:Antwerpen
ORGANIZER;CN="WTC De Sprinters":MAILTO:lincey.vandenputte@gmail.com
END:VEVENT
BEGIN:VEVENT
DTSTART;TZID=Europe/Brussels:20230528T080000
DTEND;TZID=Europe/Brussels:20230528T080000
DTSTAMP:20260420T172331
CREATED:20230131T102723Z
LAST-MODIFIED:20230131T102723Z
UID:4680-1685260800-1685260800@desprinters.be
SUMMARY:A-Ploeg: Eigen rit - 100 km
DESCRIPTION:
URL:https://desprinters.be/event/a-ploeg-eigen-rit-100-km-3/
LOCATION:Antwerpen
ORGANIZER;CN="WTC De Sprinters":MAILTO:lincey.vandenputte@gmail.com
END:VEVENT
BEGIN:VEVENT
DTSTART;TZID=Europe/Brussels:20230527T130000
DTEND;TZID=Europe/Brussels:20230527T130000
DTSTAMP:20260420T172331
CREATED:20230131T102643Z
LAST-MODIFIED:20230131T102643Z
UID:4678-1685192400-1685192400@desprinters.be
SUMMARY:B-Ploeg: Ritnr 70 - 75 km
DESCRIPTION:
URL:https://desprinters.be/event/b-ploeg-ritnr-70-75-km/
LOCATION:Antwerpen
ORGANIZER;CN="WTC De Sprinters":MAILTO:lincey.vandenputte@gmail.com
END:VEVENT
BEGIN:VEVENT
DTSTART;TZID=Europe/Brussels:20230527T130000
DTEND;TZID=Europe/Brussels:20230527T130000
DTSTAMP:20260420T172331
CREATED:20230131T102548Z
LAST-MODIFIED:20230131T102559Z
UID:4676-1685192400-1685192400@desprinters.be
SUMMARY:A-Ploeg: Eigen rit - 100 km
DESCRIPTION:
URL:https://desprinters.be/event/a-ploeg-eigen-rit-100-km-2/
LOCATION:Antwerpen
ORGANIZER;CN="WTC De Sprinters":MAILTO:lincey.vandenputte@gmail.com
END:VEVENT
BEGIN:VEVENT
DTSTART;TZID=Europe/Brussels:20230527T080000
DTEND;TZID=Europe/Brussels:20230527T080000
DTSTAMP:20260420T172331
CREATED:20230131T102035Z
LAST-MODIFIED:20230131T105015Z
UID:4666-1685174400-1685174400@desprinters.be
SUMMARY:B-Ploeg: Ten-Aard - Geraardsbergen - Ritnr 1002 - 120 km
DESCRIPTION:
URL:https://desprinters.be/event/b-ploeg-ten-aard-geraardsbergen-ritnr-x-128-km/
LOCATION:Antwerpen
ORGANIZER;CN="WTC De Sprinters":MAILTO:lincey.vandenputte@gmail.com
END:VEVENT
BEGIN:VEVENT
DTSTART;TZID=Europe/Brussels:20230527T080000
DTEND;TZID=Europe/Brussels:20230527T080000
DTSTAMP:20260420T172331
CREATED:20230131T101900Z
LAST-MODIFIED:20230131T101900Z
UID:4664-1685174400-1685174400@desprinters.be
SUMMARY:A-Ploeg: Ten-Aard - Geraardsbergen - Ritnr X - 150 km
DESCRIPTION:
URL:https://desprinters.be/event/a-ploeg-ten-aard-geraardsbergen-ritnr-x-150-km/
LOCATION:Antwerpen
ORGANIZER;CN="WTC De Sprinters":MAILTO:lincey.vandenputte@gmail.com
END:VEVENT
BEGIN:VEVENT
DTSTART;TZID=Europe/Brussels:20230521T080000
DTEND;TZID=Europe/Brussels:20230521T080000
DTSTAMP:20260420T172331
CREATED:20230131T095929Z
LAST-MODIFIED:20230131T095929Z
UID:4662-1684656000-1684656000@desprinters.be
SUMMARY:B-Ploeg: Beringen Mijn - Ritnr 160 - 75 km
DESCRIPTION:
URL:https://desprinters.be/event/b-ploeg-beringen-mijn-ritnr-160-75-km/
LOCATION:Antwerpen
ORGANIZER;CN="WTC De Sprinters":MAILTO:lincey.vandenputte@gmail.com
END:VEVENT
BEGIN:VEVENT
DTSTART;TZID=Europe/Brussels:20230521T080000
DTEND;TZID=Europe/Brussels:20230521T080000
DTSTAMP:20260420T172331
CREATED:20230131T095813Z
LAST-MODIFIED:20230131T095813Z
UID:4660-1684656000-1684656000@desprinters.be
SUMMARY:A-Ploeg: Lier - Ritnr 92 - 102 km
DESCRIPTION:
URL:https://desprinters.be/event/a-ploeg-lier-ritnr-92-102-km/
LOCATION:Antwerpen
ORGANIZER;CN="WTC De Sprinters":MAILTO:lincey.vandenputte@gmail.com
END:VEVENT
BEGIN:VEVENT
DTSTART;TZID=Europe/Brussels:20230520T080000
DTEND;TZID=Europe/Brussels:20230520T080000
DTSTAMP:20260420T172331
CREATED:20230131T095734Z
LAST-MODIFIED:20230131T095734Z
UID:4658-1684569600-1684569600@desprinters.be
SUMMARY:B-Ploeg: Herman Frison - 140 km
DESCRIPTION:
URL:https://desprinters.be/event/b-ploeg-herman-frison-140-km/
LOCATION:Antwerpen
ORGANIZER;CN="WTC De Sprinters":MAILTO:lincey.vandenputte@gmail.com
END:VEVENT
BEGIN:VEVENT
DTSTART;TZID=Europe/Brussels:20230520T080000
DTEND;TZID=Europe/Brussels:20230520T080000
DTSTAMP:20260420T172331
CREATED:20230131T095656Z
LAST-MODIFIED:20230131T095656Z
UID:4656-1684569600-1684569600@desprinters.be
SUMMARY:A-Ploeg: Herman Frison - 180 km
DESCRIPTION:
URL:https://desprinters.be/event/a-ploeg-herman-frison-180-km/
LOCATION:Antwerpen
ORGANIZER;CN="WTC De Sprinters":MAILTO:lincey.vandenputte@gmail.com
END:VEVENT
BEGIN:VEVENT
DTSTART;TZID=Europe/Brussels:20230518T080000
DTEND;TZID=Europe/Brussels:20230518T080000
DTSTAMP:20260420T172331
CREATED:20230131T095602Z
LAST-MODIFIED:20230131T095602Z
UID:4654-1684396800-1684396800@desprinters.be
SUMMARY:B-Ploeg: Vorselaar - Ritnr 22 - 75 km
DESCRIPTION:
URL:https://desprinters.be/event/b-ploeg-vorselaar-ritnr-22-75-km/
LOCATION:Antwerpen
ORGANIZER;CN="WTC De Sprinters":MAILTO:lincey.vandenputte@gmail.com
END:VEVENT
BEGIN:VEVENT
DTSTART;TZID=Europe/Brussels:20230518T080000
DTEND;TZID=Europe/Brussels:20230518T080000
DTSTAMP:20260420T172331
CREATED:20230131T095515Z
LAST-MODIFIED:20230131T095515Z
UID:4652-1684396800-1684396800@desprinters.be
SUMMARY:A-Ploeg: Werchter - Ritnr 109 - 110 km
DESCRIPTION:
URL:https://desprinters.be/event/a-ploeg-werchter-ritnr-109-110-km/
LOCATION:Antwerpen
ORGANIZER;CN="WTC De Sprinters":MAILTO:lincey.vandenputte@gmail.com
END:VEVENT
BEGIN:VEVENT
DTSTART;TZID=Europe/Brussels:20230514T080000
DTEND;TZID=Europe/Brussels:20230514T080000
DTSTAMP:20260420T172331
CREATED:20230131T095254Z
LAST-MODIFIED:20230131T095254Z
UID:4650-1684051200-1684051200@desprinters.be
SUMMARY:B-Ploeg: Grasbos - Ritnr 64 - 75 km
DESCRIPTION:
URL:https://desprinters.be/event/b-ploeg-grasbos-ritnr-64-75-km/
LOCATION:Antwerpen
ORGANIZER;CN="WTC De Sprinters":MAILTO:lincey.vandenputte@gmail.com
END:VEVENT
BEGIN:VEVENT
DTSTART;TZID=Europe/Brussels:20230514T080000
DTEND;TZID=Europe/Brussels:20230514T080000
DTSTAMP:20260420T172331
CREATED:20230131T095156Z
LAST-MODIFIED:20230131T095156Z
UID:4648-1684051200-1684051200@desprinters.be
SUMMARY:A-Ploeg: Houwaart - Ritnr 17 - 107 km
DESCRIPTION:
URL:https://desprinters.be/event/a-ploeg-houwaart-ritnr-17-107-km/
LOCATION:Antwerpen
ORGANIZER;CN="WTC De Sprinters":MAILTO:lincey.vandenputte@gmail.com
END:VEVENT
BEGIN:VEVENT
DTSTART;TZID=Europe/Brussels:20230513T130000
DTEND;TZID=Europe/Brussels:20230513T130000
DTSTAMP:20260420T172331
CREATED:20230131T095100Z
LAST-MODIFIED:20230131T095100Z
UID:4646-1683982800-1683982800@desprinters.be
SUMMARY:B-Ploeg: Ronde van de hoop Oud-Turnhout - 75 km
DESCRIPTION:
URL:https://desprinters.be/event/b-ploeg-ronde-van-de-hoop-oud-turnhout-75-km/
LOCATION:Antwerpen
ORGANIZER;CN="WTC De Sprinters":MAILTO:lincey.vandenputte@gmail.com
END:VEVENT
BEGIN:VEVENT
DTSTART;TZID=Europe/Brussels:20230513T130000
DTEND;TZID=Europe/Brussels:20230513T130000
DTSTAMP:20260420T172331
CREATED:20230131T095013Z
LAST-MODIFIED:20230131T095013Z
UID:4644-1683982800-1683982800@desprinters.be
SUMMARY:A-Ploeg: Ronde van de hoop Oud-Turnhout - 100 km
DESCRIPTION:
URL:https://desprinters.be/event/a-ploeg-ronde-van-de-hoop-oud-turnhout-100-km/
LOCATION:Antwerpen
ORGANIZER;CN="WTC De Sprinters":MAILTO:lincey.vandenputte@gmail.com
END:VEVENT
END:VCALENDAR