BEGIN:VCALENDAR
VERSION:2.0
PRODID:-//WTC De Sprinters - ECPv6.15.20//NONSGML v1.0//EN
CALSCALE:GREGORIAN
METHOD:PUBLISH
X-WR-CALNAME:WTC De Sprinters
X-ORIGINAL-URL:https://desprinters.be
X-WR-CALDESC:Evenementen voor WTC De Sprinters
REFRESH-INTERVAL;VALUE=DURATION:PT1H
X-Robots-Tag:noindex
X-PUBLISHED-TTL:PT1H
BEGIN:VTIMEZONE
TZID:Europe/Brussels
BEGIN:DAYLIGHT
TZOFFSETFROM:+0100
TZOFFSETTO:+0200
TZNAME:CEST
DTSTART:20220327T010000
END:DAYLIGHT
BEGIN:STANDARD
TZOFFSETFROM:+0200
TZOFFSETTO:+0100
TZNAME:CET
DTSTART:20221030T010000
END:STANDARD
BEGIN:DAYLIGHT
TZOFFSETFROM:+0100
TZOFFSETTO:+0200
TZNAME:CEST
DTSTART:20230326T010000
END:DAYLIGHT
BEGIN:STANDARD
TZOFFSETFROM:+0200
TZOFFSETTO:+0100
TZNAME:CET
DTSTART:20231029T010000
END:STANDARD
BEGIN:DAYLIGHT
TZOFFSETFROM:+0100
TZOFFSETTO:+0200
TZNAME:CEST
DTSTART:20240331T010000
END:DAYLIGHT
BEGIN:STANDARD
TZOFFSETFROM:+0200
TZOFFSETTO:+0100
TZNAME:CET
DTSTART:20241027T010000
END:STANDARD
END:VTIMEZONE
BEGIN:VEVENT
DTSTART;TZID=Europe/Brussels:20230722T130000
DTEND;TZID=Europe/Brussels:20230722T130000
DTSTAMP:20260420T140330
CREATED:20230207T083828Z
LAST-MODIFIED:20230207T083828Z
UID:4772-1690030800-1690030800@desprinters.be
SUMMARY:B-Ploeg: Gerheide - Ritnr 66 - 75 km
DESCRIPTION:
URL:https://desprinters.be/event/b-ploeg-gerheide-ritnr-66-75-km-2/
LOCATION:Antwerpen
ORGANIZER;CN="WTC De Sprinters":MAILTO:lincey.vandenputte@gmail.com
END:VEVENT
BEGIN:VEVENT
DTSTART;TZID=Europe/Brussels:20230722T130000
DTEND;TZID=Europe/Brussels:20230722T130000
DTSTAMP:20260420T140330
CREATED:20230207T083737Z
LAST-MODIFIED:20230207T083737Z
UID:4770-1690030800-1690030800@desprinters.be
SUMMARY:A-Ploeg: Schulensmeer - Ritnr 19 - 90 km
DESCRIPTION:
URL:https://desprinters.be/event/a-ploeg-schulensmeer-ritnr-19-90-km/
LOCATION:Antwerpen
ORGANIZER;CN="WTC De Sprinters":MAILTO:lincey.vandenputte@gmail.com
END:VEVENT
BEGIN:VEVENT
DTSTART;TZID=Europe/Brussels:20230721T080000
DTEND;TZID=Europe/Brussels:20230721T080000
DTSTAMP:20260420T140330
CREATED:20230207T083557Z
LAST-MODIFIED:20230217T091919Z
UID:4768-1689926400-1689926400@desprinters.be
SUMMARY:B-Ploeg: Pulle - Ritnr 166 - 75 km
DESCRIPTION:
URL:https://desprinters.be/event/b-ploeg-pulle-ritnr-gust-75-km/
LOCATION:Antwerpen
ORGANIZER;CN="WTC De Sprinters":MAILTO:lincey.vandenputte@gmail.com
END:VEVENT
BEGIN:VEVENT
DTSTART;TZID=Europe/Brussels:20230721T080000
DTEND;TZID=Europe/Brussels:20230721T080000
DTSTAMP:20260420T140330
CREATED:20230207T083513Z
LAST-MODIFIED:20230207T083513Z
UID:4766-1689926400-1689926400@desprinters.be
SUMMARY:A-Ploeg: Baarle-Hertog - Ritnr 86 - 102 km
DESCRIPTION:
URL:https://desprinters.be/event/a-ploeg-baarle-hertog-ritnr-86-102-km/
LOCATION:Antwerpen
ORGANIZER;CN="WTC De Sprinters":MAILTO:lincey.vandenputte@gmail.com
END:VEVENT
BEGIN:VEVENT
DTSTART;TZID=Europe/Brussels:20230716T080000
DTEND;TZID=Europe/Brussels:20230716T080000
DTSTAMP:20260420T140330
CREATED:20230207T083309Z
LAST-MODIFIED:20230217T091902Z
UID:4764-1689494400-1689494400@desprinters.be
SUMMARY:B-Ploeg: Beersel cafe Welkom - Ritnr 165 - 75 km
DESCRIPTION:
URL:https://desprinters.be/event/b-ploeg-beersel-cafe-welkom-ritnr-gust-75-km/
LOCATION:Antwerpen
ORGANIZER;CN="WTC De Sprinters":MAILTO:lincey.vandenputte@gmail.com
END:VEVENT
BEGIN:VEVENT
DTSTART;TZID=Europe/Brussels:20230716T080000
DTEND;TZID=Europe/Brussels:20230716T080000
DTSTAMP:20260420T140330
CREATED:20230207T083208Z
LAST-MODIFIED:20230207T083208Z
UID:4762-1689494400-1689494400@desprinters.be
SUMMARY:A-Ploeg: Houwaart - Ritnr 135 - 93 km
DESCRIPTION:
URL:https://desprinters.be/event/a-ploeg-houwaart-ritnr-135-93-km/
LOCATION:Antwerpen
ORGANIZER;CN="WTC De Sprinters":MAILTO:lincey.vandenputte@gmail.com
END:VEVENT
BEGIN:VEVENT
DTSTART;TZID=Europe/Brussels:20230715T130000
DTEND;TZID=Europe/Brussels:20230715T130000
DTSTAMP:20260420T140330
CREATED:20230207T083058Z
LAST-MODIFIED:20230217T091541Z
UID:4760-1689426000-1689426000@desprinters.be
SUMMARY:B-Ploeg: Bergske Vosselaar - Ritnr 164 - 75 km
DESCRIPTION:
URL:https://desprinters.be/event/b-ploeg-bergske-vosselaar-ritnr-gust-75-km/
LOCATION:Antwerpen
ORGANIZER;CN="WTC De Sprinters":MAILTO:lincey.vandenputte@gmail.com
END:VEVENT
BEGIN:VEVENT
DTSTART;TZID=Europe/Brussels:20230715T130000
DTEND;TZID=Europe/Brussels:20230715T130000
DTSTAMP:20260420T140330
CREATED:20230207T082855Z
LAST-MODIFIED:20230207T082855Z
UID:4758-1689426000-1689426000@desprinters.be
SUMMARY:A-Ploeg: Wortel - Ritnr 124 - 102 km
DESCRIPTION:
URL:https://desprinters.be/event/a-ploeg-wortel-ritnr-124-102-km/
LOCATION:Antwerpen
ORGANIZER;CN="WTC De Sprinters":MAILTO:lincey.vandenputte@gmail.com
END:VEVENT
BEGIN:VEVENT
DTSTART;TZID=Europe/Brussels:20230709T080000
DTEND;TZID=Europe/Brussels:20230709T080000
DTSTAMP:20260420T140330
CREATED:20230207T082750Z
LAST-MODIFIED:20230217T091523Z
UID:4756-1688889600-1688889600@desprinters.be
SUMMARY:B-Ploeg: Scherpe Plank - Ritnr 163 - 75 km
DESCRIPTION:
URL:https://desprinters.be/event/b-ploeg-scherpe-plank-ritnr-gust-75-km/
LOCATION:Antwerpen
ORGANIZER;CN="WTC De Sprinters":MAILTO:lincey.vandenputte@gmail.com
END:VEVENT
BEGIN:VEVENT
DTSTART;TZID=Europe/Brussels:20230709T080000
DTEND;TZID=Europe/Brussels:20230709T080000
DTSTAMP:20260420T140330
CREATED:20230207T082657Z
LAST-MODIFIED:20230207T082657Z
UID:4754-1688889600-1688889600@desprinters.be
SUMMARY:A-Ploeg: Eindhoven - Ritnr 113 - 105 km
DESCRIPTION:
URL:https://desprinters.be/event/a-ploeg-eindhoven-ritnr-113-105-km/
LOCATION:Antwerpen
ORGANIZER;CN="WTC De Sprinters":MAILTO:lincey.vandenputte@gmail.com
END:VEVENT
BEGIN:VEVENT
DTSTART;TZID=Europe/Brussels:20230708T060000
DTEND;TZID=Europe/Brussels:20230708T060000
DTSTAMP:20260420T140330
CREATED:20230207T082553Z
LAST-MODIFIED:20230207T082553Z
UID:4752-1688796000-1688796000@desprinters.be
SUMMARY:B-Ploeg: Rit naar zee - 170 km - DOODLE!
DESCRIPTION:
URL:https://desprinters.be/event/b-ploeg-rit-naar-zee-170-km-doodle/
LOCATION:Antwerpen
ORGANIZER;CN="WTC De Sprinters":MAILTO:lincey.vandenputte@gmail.com
END:VEVENT
BEGIN:VEVENT
DTSTART;TZID=Europe/Brussels:20230708T060000
DTEND;TZID=Europe/Brussels:20230708T060000
DTSTAMP:20260420T140330
CREATED:20230207T082500Z
LAST-MODIFIED:20230207T082500Z
UID:4750-1688796000-1688796000@desprinters.be
SUMMARY:A-Ploeg: Rit naar zee - 170 km - DOODLE!
DESCRIPTION:
URL:https://desprinters.be/event/a-ploeg-rit-naar-zee-170-km-doodle/
LOCATION:Antwerpen
ORGANIZER;CN="WTC De Sprinters":MAILTO:lincey.vandenputte@gmail.com
END:VEVENT
BEGIN:VEVENT
DTSTART;TZID=Europe/Brussels:20230702T080000
DTEND;TZID=Europe/Brussels:20230702T080000
DTSTAMP:20260420T140330
CREATED:20230207T082229Z
LAST-MODIFIED:20230207T082229Z
UID:4748-1688284800-1688284800@desprinters.be
SUMMARY:B-Ploeg: Mellerit Katena - 75 km
DESCRIPTION:
URL:https://desprinters.be/event/b-ploeg-mellerit-katena-75-km/
LOCATION:Antwerpen
ORGANIZER;CN="WTC De Sprinters":MAILTO:lincey.vandenputte@gmail.com
END:VEVENT
BEGIN:VEVENT
DTSTART;TZID=Europe/Brussels:20230702T080000
DTEND;TZID=Europe/Brussels:20230702T080000
DTSTAMP:20260420T140330
CREATED:20230207T082144Z
LAST-MODIFIED:20230207T082144Z
UID:4746-1688284800-1688284800@desprinters.be
SUMMARY:A-Ploeg: Mellerit Katena - 100 km
DESCRIPTION:
URL:https://desprinters.be/event/a-ploeg-mellerit-katena-100-km/
LOCATION:Antwerpen
ORGANIZER;CN="WTC De Sprinters":MAILTO:lincey.vandenputte@gmail.com
END:VEVENT
BEGIN:VEVENT
DTSTART;TZID=Europe/Brussels:20230701T130000
DTEND;TZID=Europe/Brussels:20230701T130000
DTSTAMP:20260420T140330
CREATED:20230207T082057Z
LAST-MODIFIED:20230207T082057Z
UID:4744-1688216400-1688216400@desprinters.be
SUMMARY:B-Ploeg: Voortkapel - Ritnr 71 - 76 km
DESCRIPTION:
URL:https://desprinters.be/event/b-ploeg-voortkapel-ritnr-71-76-km/
LOCATION:Antwerpen
ORGANIZER;CN="WTC De Sprinters":MAILTO:lincey.vandenputte@gmail.com
END:VEVENT
BEGIN:VEVENT
DTSTART;TZID=Europe/Brussels:20230701T130000
DTEND;TZID=Europe/Brussels:20230701T130000
DTSTAMP:20260420T140330
CREATED:20230207T081946Z
LAST-MODIFIED:20230207T081946Z
UID:4742-1688216400-1688216400@desprinters.be
SUMMARY:A-Ploeg: Lummen - Ritnr 119 - 103 km
DESCRIPTION:
URL:https://desprinters.be/event/a-ploeg-lummen-ritnr-119-103-km/
LOCATION:Antwerpen
ORGANIZER;CN="WTC De Sprinters":MAILTO:lincey.vandenputte@gmail.com
END:VEVENT
BEGIN:VEVENT
DTSTART;TZID=Europe/Brussels:20230625T080000
DTEND;TZID=Europe/Brussels:20230625T080000
DTSTAMP:20260420T140330
CREATED:20230207T081454Z
LAST-MODIFIED:20230207T081454Z
UID:4740-1687680000-1687680000@desprinters.be
SUMMARY:B-Ploeg: De Rijck Weelde - Ritnr 57 - 75 km
DESCRIPTION:
URL:https://desprinters.be/event/b-ploeg-de-rijck-weelde-ritnr-57-75-km/
LOCATION:Antwerpen
ORGANIZER;CN="WTC De Sprinters":MAILTO:lincey.vandenputte@gmail.com
END:VEVENT
BEGIN:VEVENT
DTSTART;TZID=Europe/Brussels:20230625T080000
DTEND;TZID=Europe/Brussels:20230625T080000
DTSTAMP:20260420T140330
CREATED:20230207T081411Z
LAST-MODIFIED:20230207T081411Z
UID:4738-1687680000-1687680000@desprinters.be
SUMMARY:A-Ploeg: Mol-Wezel - Ritnr 116 - 100 km
DESCRIPTION:
URL:https://desprinters.be/event/a-ploeg-mol-wezel-ritnr-116-100-km/
LOCATION:Antwerpen
ORGANIZER;CN="WTC De Sprinters":MAILTO:lincey.vandenputte@gmail.com
END:VEVENT
BEGIN:VEVENT
DTSTART;TZID=Europe/Brussels:20230624T080000
DTEND;TZID=Europe/Brussels:20230624T080000
DTSTAMP:20260420T140330
CREATED:20230207T081315Z
LAST-MODIFIED:20230207T081315Z
UID:4736-1687593600-1687593600@desprinters.be
SUMMARY:B-Ploeg: Alden-Biesen Classic - MA - 100 km - DOODLE!
DESCRIPTION:
URL:https://desprinters.be/event/b-ploeg-alden-biesen-classic-ma-100-km-doodle/
LOCATION:Antwerpen
ORGANIZER;CN="WTC De Sprinters":MAILTO:lincey.vandenputte@gmail.com
END:VEVENT
BEGIN:VEVENT
DTSTART;TZID=Europe/Brussels:20230624T080000
DTEND;TZID=Europe/Brussels:20230624T080000
DTSTAMP:20260420T140330
CREATED:20230207T081148Z
LAST-MODIFIED:20230207T081212Z
UID:4733-1687593600-1687593600@desprinters.be
SUMMARY:A-Ploeg: Alden-Biesen Classic - MA - 130 km - DOODLE!
DESCRIPTION:
URL:https://desprinters.be/event/a-ploeg-alden-biesen-classic-130-km-doodle/
LOCATION:Antwerpen
ORGANIZER;CN="WTC De Sprinters":MAILTO:lincey.vandenputte@gmail.com
END:VEVENT
BEGIN:VEVENT
DTSTART;TZID=Europe/Brussels:20230618T080000
DTEND;TZID=Europe/Brussels:20230618T080000
DTSTAMP:20260420T140330
CREATED:20230207T081040Z
LAST-MODIFIED:20230217T091437Z
UID:4731-1687075200-1687075200@desprinters.be
SUMMARY:B-Ploeg: Unitas Ravels-Eel - Ritnr 162 - 76 km
DESCRIPTION:
URL:https://desprinters.be/event/b-ploeg-unitas-ravels-eel-ritnr-gust-76-km/
LOCATION:Antwerpen
ORGANIZER;CN="WTC De Sprinters":MAILTO:lincey.vandenputte@gmail.com
END:VEVENT
BEGIN:VEVENT
DTSTART;TZID=Europe/Brussels:20230618T080000
DTEND;TZID=Europe/Brussels:20230618T080000
DTSTAMP:20260420T140330
CREATED:20230207T080942Z
LAST-MODIFIED:20230207T080942Z
UID:4729-1687075200-1687075200@desprinters.be
SUMMARY:A-Ploeg: Loenhout - Ritnr 111 - 109 km
DESCRIPTION:
URL:https://desprinters.be/event/a-ploeg-loenhout-ritnr-111-109-km/
LOCATION:Antwerpen
ORGANIZER;CN="WTC De Sprinters":MAILTO:lincey.vandenputte@gmail.com
END:VEVENT
BEGIN:VEVENT
DTSTART;TZID=Europe/Brussels:20230617T130000
DTEND;TZID=Europe/Brussels:20230617T130000
DTSTAMP:20260420T140330
CREATED:20230207T080848Z
LAST-MODIFIED:20230217T091412Z
UID:4727-1687006800-1687006800@desprinters.be
SUMMARY:B-Ploeg: Sporthal Herselt - Ritnr 161 - 77 km
DESCRIPTION:
URL:https://desprinters.be/event/b-ploeg-sporthal-herselt-ritnr-gust-77-km/
LOCATION:Antwerpen
ORGANIZER;CN="WTC De Sprinters":MAILTO:lincey.vandenputte@gmail.com
END:VEVENT
BEGIN:VEVENT
DTSTART;TZID=Europe/Brussels:20230617T130000
DTEND;TZID=Europe/Brussels:20230617T130000
DTSTAMP:20260420T140330
CREATED:20230207T080738Z
LAST-MODIFIED:20230207T080738Z
UID:4725-1687006800-1687006800@desprinters.be
SUMMARY:A-Ploeg: Vremde - Ritnr 121 - 100 km
DESCRIPTION:
URL:https://desprinters.be/event/a-ploeg-vremde-ritnr-121-100-km/
LOCATION:Antwerpen
ORGANIZER;CN="WTC De Sprinters":MAILTO:lincey.vandenputte@gmail.com
END:VEVENT
BEGIN:VEVENT
DTSTART;TZID=Europe/Brussels:20230611T080000
DTEND;TZID=Europe/Brussels:20230611T080000
DTSTAMP:20260420T140330
CREATED:20230207T080613Z
LAST-MODIFIED:20230607T084511Z
UID:4723-1686470400-1686470400@desprinters.be
SUMMARY:B-Ploeg: Fietsdag Zammel - 75 km
DESCRIPTION:
URL:https://desprinters.be/event/b-ploeg-fietsdag-zammel-75-km/
LOCATION:Antwerpen
ORGANIZER;CN="WTC De Sprinters":MAILTO:lincey.vandenputte@gmail.com
END:VEVENT
BEGIN:VEVENT
DTSTART;TZID=Europe/Brussels:20230611T080000
DTEND;TZID=Europe/Brussels:20230611T080000
DTSTAMP:20260420T140330
CREATED:20230207T080503Z
LAST-MODIFIED:20230607T084542Z
UID:4721-1686470400-1686470400@desprinters.be
SUMMARY:A-Ploeg: Fietsdag Zammel - 95 km
DESCRIPTION:
URL:https://desprinters.be/event/a-ploeg-fietsdag-zammel-95-km/
LOCATION:Antwerpen
ORGANIZER;CN="WTC De Sprinters":MAILTO:lincey.vandenputte@gmail.com
END:VEVENT
BEGIN:VEVENT
DTSTART;TZID=Europe/Brussels:20230610T130000
DTEND;TZID=Europe/Brussels:20230610T130000
DTSTAMP:20260420T140330
CREATED:20230207T080247Z
LAST-MODIFIED:20230207T080247Z
UID:4717-1686402000-1686402000@desprinters.be
SUMMARY:A-Ploeg: Verloren uur - Ritnr 91 - 99 km
DESCRIPTION:
URL:https://desprinters.be/event/a-ploeg-verloren-uur-ritnr-91-99-km/
LOCATION:Antwerpen
ORGANIZER;CN="WTC De Sprinters":MAILTO:lincey.vandenputte@gmail.com
END:VEVENT
BEGIN:VEVENT
DTSTART;TZID=Europe/Brussels:20230610T080000
DTEND;TZID=Europe/Brussels:20230610T080000
DTSTAMP:20260420T140330
CREATED:20230207T080358Z
LAST-MODIFIED:20230207T080358Z
UID:4719-1686384000-1686384000@desprinters.be
SUMMARY:B-Ploeg: Vosselaar Classic - 115 km
DESCRIPTION:
URL:https://desprinters.be/event/b-ploeg-vosselaar-classic-115-km/
LOCATION:Antwerpen
ORGANIZER;CN="WTC De Sprinters":MAILTO:lincey.vandenputte@gmail.com
END:VEVENT
BEGIN:VEVENT
DTSTART;TZID=Europe/Brussels:20230604T080000
DTEND;TZID=Europe/Brussels:20230604T080000
DTSTAMP:20260420T140330
CREATED:20230207T080050Z
LAST-MODIFIED:20230207T080135Z
UID:4715-1685865600-1685865600@desprinters.be
SUMMARY:B-Ploeg: Dag van de Fiets - 75 km
DESCRIPTION:
URL:https://desprinters.be/event/b-ploeg-dag-van-de-fiets-75-km/
LOCATION:Antwerpen
ORGANIZER;CN="WTC De Sprinters":MAILTO:lincey.vandenputte@gmail.com
END:VEVENT
BEGIN:VEVENT
DTSTART;TZID=Europe/Brussels:20230604T073000
DTEND;TZID=Europe/Brussels:20230604T073000
DTSTAMP:20260420T140330
CREATED:20230207T075953Z
LAST-MODIFIED:20230207T080117Z
UID:4713-1685863800-1685863800@desprinters.be
SUMMARY:A-Ploeg: Dag van de Fiets - Pijlen nakijken - 75 km
DESCRIPTION:
URL:https://desprinters.be/event/a-ploeg-dag-van-de-fiets-pijlen-nakijken-75-km/
LOCATION:Antwerpen
ORGANIZER;CN="WTC De Sprinters":MAILTO:lincey.vandenputte@gmail.com
END:VEVENT
END:VCALENDAR